BEGIN:VCALENDAR
VERSION:2.0
PRODID:-//Salty Bottom Blue Oysters - ECPv6.15.20//NONSGML v1.0//EN
CALSCALE:GREGORIAN
METHOD:PUBLISH
X-ORIGINAL-URL:https://saltybottomblue.com
X-WR-CALDESC:Events for Salty Bottom Blue Oysters
REFRESH-INTERVAL;VALUE=DURATION:PT1H
X-Robots-Tag:noindex
X-PUBLISHED-TTL:PT1H
BEGIN:VTIMEZONE
TZID:America/New_York
BEGIN:DAYLIGHT
TZOFFSETFROM:-0500
TZOFFSETTO:-0400
TZNAME:EDT
DTSTART:20220313T070000
END:DAYLIGHT
BEGIN:STANDARD
TZOFFSETFROM:-0400
TZOFFSETTO:-0500
TZNAME:EST
DTSTART:20221106T060000
END:STANDARD
BEGIN:DAYLIGHT
TZOFFSETFROM:-0500
TZOFFSETTO:-0400
TZNAME:EDT
DTSTART:20230312T070000
END:DAYLIGHT
BEGIN:STANDARD
TZOFFSETFROM:-0400
TZOFFSETTO:-0500
TZNAME:EST
DTSTART:20231105T060000
END:STANDARD
BEGIN:DAYLIGHT
TZOFFSETFROM:-0500
TZOFFSETTO:-0400
TZNAME:EDT
DTSTART:20240310T070000
END:DAYLIGHT
BEGIN:STANDARD
TZOFFSETFROM:-0400
TZOFFSETTO:-0500
TZNAME:EST
DTSTART:20241103T060000
END:STANDARD
BEGIN:DAYLIGHT
TZOFFSETFROM:-0500
TZOFFSETTO:-0400
TZNAME:EDT
DTSTART:20250309T070000
END:DAYLIGHT
BEGIN:STANDARD
TZOFFSETFROM:-0400
TZOFFSETTO:-0500
TZNAME:EST
DTSTART:20251102T060000
END:STANDARD
BEGIN:DAYLIGHT
TZOFFSETFROM:-0500
TZOFFSETTO:-0400
TZNAME:EDT
DTSTART:20260308T070000
END:DAYLIGHT
BEGIN:STANDARD
TZOFFSETFROM:-0400
TZOFFSETTO:-0500
TZNAME:EST
DTSTART:20261101T060000
END:STANDARD
END:VTIMEZONE
BEGIN:VEVENT
DTSTART;TZID=America/New_York:20250706T110000
DTEND;TZID=America/New_York:20250706T170000
DTSTAMP:20260422T095600
CREATED:20250605T151548Z
LAST-MODIFIED:20250605T151820Z
UID:10000309-1751799600-1751821200@saltybottomblue.com
SUMMARY:Trump Winery
DESCRIPTION:
URL:https://saltybottomblue.com/event/trump-winery-5/
LOCATION:Trump Winery\, 385 Albemarle House Dr\, Charlottesville\, 22902
END:VEVENT
BEGIN:VEVENT
DTSTART;TZID=America/New_York:20240414T110000
DTEND;TZID=America/New_York:20240414T170000
DTSTAMP:20260422T095600
CREATED:20240322T172410Z
LAST-MODIFIED:20240322T172414Z
UID:10000089-1713092400-1713114000@saltybottomblue.com
SUMMARY:Trump Winery
DESCRIPTION:
URL:https://saltybottomblue.com/event/trump-winery-4/
LOCATION:Trump Winery\, 385 Albemarle House Dr\, Charlottesville\, 22902
END:VEVENT
BEGIN:VEVENT
DTSTART;TZID=America/New_York:20231015T110000
DTEND;TZID=America/New_York:20231015T170000
DTSTAMP:20260422T095600
CREATED:20230620T210702Z
LAST-MODIFIED:20231004T160122Z
UID:10000098-1697367600-1697389200@saltybottomblue.com
SUMMARY:Trump Winery
DESCRIPTION:
URL:https://saltybottomblue.com/event/trump-winery-2/2023-10-15/
LOCATION:Trump Winery\, 385 Albemarle House Dr\, Charlottesville\, 22902
END:VEVENT
BEGIN:VEVENT
DTSTART;TZID=America/New_York:20230730T110000
DTEND;TZID=America/New_York:20230730T170000
DTSTAMP:20260422T095600
CREATED:20230620T210702Z
LAST-MODIFIED:20231004T160122Z
UID:10000066-1690714800-1690736400@saltybottomblue.com
SUMMARY:Trump Winery
DESCRIPTION:
URL:https://saltybottomblue.com/event/trump-winery-2/2023-07-30/
LOCATION:Trump Winery\, 385 Albemarle House Dr\, Charlottesville\, 22902
END:VEVENT
BEGIN:VEVENT
DTSTART;TZID=America/New_York:20230716T110000
DTEND;TZID=America/New_York:20230716T170000
DTSTAMP:20260422T095600
CREATED:20230620T210702Z
LAST-MODIFIED:20231004T160122Z
UID:10000065-1689505200-1689526800@saltybottomblue.com
SUMMARY:Trump Winery
DESCRIPTION:
URL:https://saltybottomblue.com/event/trump-winery-2/2023-07-16/
LOCATION:Trump Winery\, 385 Albemarle House Dr\, Charlottesville\, 22902
END:VEVENT
BEGIN:VEVENT
DTSTART;TZID=America/New_York:20230715T110000
DTEND;TZID=America/New_York:20230715T170000
DTSTAMP:20260422T095600
CREATED:20230620T210702Z
LAST-MODIFIED:20231004T160122Z
UID:10000064-1689418800-1689440400@saltybottomblue.com
SUMMARY:Trump Winery
DESCRIPTION:
URL:https://saltybottomblue.com/event/trump-winery-2/2023-07-15/
LOCATION:Trump Winery\, 385 Albemarle House Dr\, Charlottesville\, 22902
END:VEVENT
BEGIN:VEVENT
DTSTART;TZID=America/New_York:20230709T110000
DTEND;TZID=America/New_York:20230709T170000
DTSTAMP:20260422T095600
CREATED:20230620T210702Z
LAST-MODIFIED:20231004T160122Z
UID:10000063-1688900400-1688922000@saltybottomblue.com
SUMMARY:Trump Winery
DESCRIPTION:
URL:https://saltybottomblue.com/event/trump-winery-2/2023-07-09/
LOCATION:Trump Winery\, 385 Albemarle House Dr\, Charlottesville\, 22902
END:VEVENT
BEGIN:VEVENT
DTSTART;TZID=America/New_York:20230708T110000
DTEND;TZID=America/New_York:20230708T170000
DTSTAMP:20260422T095600
CREATED:20230620T210702Z
LAST-MODIFIED:20231004T160122Z
UID:10000062-1688814000-1688835600@saltybottomblue.com
SUMMARY:Trump Winery
DESCRIPTION:
URL:https://saltybottomblue.com/event/trump-winery-2/2023-07-08/
LOCATION:Trump Winery\, 385 Albemarle House Dr\, Charlottesville\, 22902
END:VEVENT
BEGIN:VEVENT
DTSTART;TZID=America/New_York:20230702T110000
DTEND;TZID=America/New_York:20230702T170000
DTSTAMP:20260422T095600
CREATED:20230620T210702Z
LAST-MODIFIED:20231004T160122Z
UID:10000049-1688295600-1688317200@saltybottomblue.com
SUMMARY:Trump Winery
DESCRIPTION:
URL:https://saltybottomblue.com/event/trump-winery-2/2023-07-02/
LOCATION:Trump Winery\, 385 Albemarle House Dr\, Charlottesville\, 22902
END:VEVENT
BEGIN:VEVENT
DTSTART;TZID=America/New_York:20230624T110000
DTEND;TZID=America/New_York:20230624T150000
DTSTAMP:20260422T095600
CREATED:20230623T124742Z
LAST-MODIFIED:20230623T124745Z
UID:10000035-1687604400-1687618800@saltybottomblue.com
SUMMARY:Trump Winery
DESCRIPTION:
URL:https://saltybottomblue.com/event/trump-winery-3/
LOCATION:Trump Winery\, 385 Albemarle House Dr\, Charlottesville\, 22902
END:VEVENT
BEGIN:VEVENT
DTSTART;TZID=America/New_York:20230513T110000
DTEND;TZID=America/New_York:20230513T170000
DTSTAMP:20260422T095600
CREATED:20230504T175444Z
LAST-MODIFIED:20230504T175445Z
UID:10000004-1683975600-1683997200@saltybottomblue.com
SUMMARY:Trump Winery
DESCRIPTION:
URL:https://saltybottomblue.com/event/trump-winery/
LOCATION:Trump Winery\, 385 Albemarle House Dr\, Charlottesville\, 22902
END:VEVENT
END:VCALENDAR