BEGIN:VCALENDAR
VERSION:2.0
PRODID:-//Salty Bottom Blue Oysters - ECPv6.15.20//NONSGML v1.0//EN
CALSCALE:GREGORIAN
METHOD:PUBLISH
X-ORIGINAL-URL:https://saltybottomblue.com
X-WR-CALDESC:Events for Salty Bottom Blue Oysters
REFRESH-INTERVAL;VALUE=DURATION:PT1H
X-Robots-Tag:noindex
X-PUBLISHED-TTL:PT1H
BEGIN:VTIMEZONE
TZID:America/New_York
BEGIN:DAYLIGHT
TZOFFSETFROM:-0500
TZOFFSETTO:-0400
TZNAME:EDT
DTSTART:20230312T070000
END:DAYLIGHT
BEGIN:STANDARD
TZOFFSETFROM:-0400
TZOFFSETTO:-0500
TZNAME:EST
DTSTART:20231105T060000
END:STANDARD
BEGIN:DAYLIGHT
TZOFFSETFROM:-0500
TZOFFSETTO:-0400
TZNAME:EDT
DTSTART:20240310T070000
END:DAYLIGHT
BEGIN:STANDARD
TZOFFSETFROM:-0400
TZOFFSETTO:-0500
TZNAME:EST
DTSTART:20241103T060000
END:STANDARD
BEGIN:DAYLIGHT
TZOFFSETFROM:-0500
TZOFFSETTO:-0400
TZNAME:EDT
DTSTART:20250309T070000
END:DAYLIGHT
BEGIN:STANDARD
TZOFFSETFROM:-0400
TZOFFSETTO:-0500
TZNAME:EST
DTSTART:20251102T060000
END:STANDARD
END:VTIMEZONE
BEGIN:VEVENT
DTSTART;TZID=America/New_York:20241020T110000
DTEND;TZID=America/New_York:20241020T170000
DTSTAMP:20260422T095513
CREATED:20240823T122336Z
LAST-MODIFIED:20250611T174808Z
UID:10000147-1729422000-1729443600@saltybottomblue.com
SUMMARY:PATCH! Lobster and Oyster Day!
DESCRIPTION:
URL:https://saltybottomblue.com/event/patch-lobster-and-oyster-day/2024-10-20/
LOCATION:Patch Brewery\, 10271 Gordon Ave\, Gordsonsville\, VA
END:VEVENT
BEGIN:VEVENT
DTSTART;TZID=America/New_York:20240922T110000
DTEND;TZID=America/New_York:20240922T170000
DTSTAMP:20260422T095513
CREATED:20240823T122336Z
LAST-MODIFIED:20250611T174808Z
UID:10000146-1727002800-1727024400@saltybottomblue.com
SUMMARY:PATCH! Lobster and Oyster Day!
DESCRIPTION:
URL:https://saltybottomblue.com/event/patch-lobster-and-oyster-day/2024-09-22/
LOCATION:Patch Brewery\, 10271 Gordon Ave\, Gordsonsville\, VA
END:VEVENT
END:VCALENDAR