BEGIN:VCALENDAR
VERSION:2.0
PRODID:-//Salty Bottom Blue Oysters - ECPv6.15.20//NONSGML v1.0//EN
CALSCALE:GREGORIAN
METHOD:PUBLISH
X-ORIGINAL-URL:https://saltybottomblue.com
X-WR-CALDESC:Events for Salty Bottom Blue Oysters
REFRESH-INTERVAL;VALUE=DURATION:PT1H
X-Robots-Tag:noindex
X-PUBLISHED-TTL:PT1H
BEGIN:VTIMEZONE
TZID:America/New_York
BEGIN:DAYLIGHT
TZOFFSETFROM:-0500
TZOFFSETTO:-0400
TZNAME:EDT
DTSTART:20230312T070000
END:DAYLIGHT
BEGIN:STANDARD
TZOFFSETFROM:-0400
TZOFFSETTO:-0500
TZNAME:EST
DTSTART:20231105T060000
END:STANDARD
BEGIN:DAYLIGHT
TZOFFSETFROM:-0500
TZOFFSETTO:-0400
TZNAME:EDT
DTSTART:20240310T070000
END:DAYLIGHT
BEGIN:STANDARD
TZOFFSETFROM:-0400
TZOFFSETTO:-0500
TZNAME:EST
DTSTART:20241103T060000
END:STANDARD
BEGIN:DAYLIGHT
TZOFFSETFROM:-0500
TZOFFSETTO:-0400
TZNAME:EDT
DTSTART:20250309T070000
END:DAYLIGHT
BEGIN:STANDARD
TZOFFSETFROM:-0400
TZOFFSETTO:-0500
TZNAME:EST
DTSTART:20251102T060000
END:STANDARD
BEGIN:DAYLIGHT
TZOFFSETFROM:-0500
TZOFFSETTO:-0400
TZNAME:EDT
DTSTART:20260308T070000
END:DAYLIGHT
BEGIN:STANDARD
TZOFFSETFROM:-0400
TZOFFSETTO:-0500
TZNAME:EST
DTSTART:20261101T060000
END:STANDARD
END:VTIMEZONE
BEGIN:VEVENT
DTSTART;TZID=America/New_York:20250613T160000
DTEND;TZID=America/New_York:20250613T200000
DTSTAMP:20260422T114330
CREATED:20250403T125936Z
LAST-MODIFIED:20250403T125939Z
UID:10000278-1749830400-1749844800@saltybottomblue.com
SUMMARY:New Kent Winery: Chesapeake Bay Celebration
DESCRIPTION:
URL:https://saltybottomblue.com/event/new-kent-winery-chesapeake-bay-celebration-2/
LOCATION:New Kent Winery & Talleysville Brewing Company\, 8400 old church rd\, new kent\, Virginia\, 23124\, United States
END:VEVENT
BEGIN:VEVENT
DTSTART;TZID=America/New_York:20240607T170000
DTEND;TZID=America/New_York:20240607T210000
DTSTAMP:20260422T114330
CREATED:20240322T190914Z
LAST-MODIFIED:20240322T190917Z
UID:10000109-1717779600-1717794000@saltybottomblue.com
SUMMARY:New Kent Winery: Chesapeake Bay Celebration
DESCRIPTION:
URL:https://saltybottomblue.com/event/new-kent-winery-chesapeake-bay-celebration/
LOCATION:New Kent Winery & Talleysville Brewing Company\, 8400 old church rd\, new kent\, Virginia\, 23124\, United States
END:VEVENT
END:VCALENDAR