BEGIN:VCALENDAR
VERSION:2.0
PRODID:-//Salty Bottom Blue Oysters - ECPv6.15.20//NONSGML v1.0//EN
CALSCALE:GREGORIAN
METHOD:PUBLISH
X-WR-CALNAME:Salty Bottom Blue Oysters
X-ORIGINAL-URL:https://saltybottomblue.com
X-WR-CALDESC:Events for Salty Bottom Blue Oysters
REFRESH-INTERVAL;VALUE=DURATION:PT1H
X-Robots-Tag:noindex
X-PUBLISHED-TTL:PT1H
BEGIN:VTIMEZONE
TZID:America/New_York
BEGIN:DAYLIGHT
TZOFFSETFROM:-0500
TZOFFSETTO:-0400
TZNAME:EDT
DTSTART:20220313T070000
END:DAYLIGHT
BEGIN:STANDARD
TZOFFSETFROM:-0400
TZOFFSETTO:-0500
TZNAME:EST
DTSTART:20221106T060000
END:STANDARD
BEGIN:DAYLIGHT
TZOFFSETFROM:-0500
TZOFFSETTO:-0400
TZNAME:EDT
DTSTART:20230312T070000
END:DAYLIGHT
BEGIN:STANDARD
TZOFFSETFROM:-0400
TZOFFSETTO:-0500
TZNAME:EST
DTSTART:20231105T060000
END:STANDARD
BEGIN:DAYLIGHT
TZOFFSETFROM:-0500
TZOFFSETTO:-0400
TZNAME:EDT
DTSTART:20240310T070000
END:DAYLIGHT
BEGIN:STANDARD
TZOFFSETFROM:-0400
TZOFFSETTO:-0500
TZNAME:EST
DTSTART:20241103T060000
END:STANDARD
END:VTIMEZONE
BEGIN:VEVENT
DTSTART;TZID=America/New_York:20230804T160000
DTEND;TZID=America/New_York:20230804T210000
DTSTAMP:20260422T160105
CREATED:20230621T004431Z
LAST-MODIFIED:20230803T160345Z
UID:10000076-1691164800-1691182800@saltybottomblue.com
SUMMARY:Merrie Mill Farm and Vineyard
DESCRIPTION:
URL:https://saltybottomblue.com/event/merrie-mill-farm-and-vineyard-copy/2023-08-04/
LOCATION:Merrie Mill Farm and Vineyard\, 594 Merrie Mill Farm\, Keswick\, Virginia\, 22947
END:VEVENT
BEGIN:VEVENT
DTSTART;TZID=America/New_York:20230721T110000
DTEND;TZID=America/New_York:20230721T180000
DTSTAMP:20260422T160105
CREATED:20230621T004431Z
LAST-MODIFIED:20230803T160345Z
UID:10000059-1689937200-1689962400@saltybottomblue.com
SUMMARY:Merrie Mill Farm and Vineyard
DESCRIPTION:
URL:https://saltybottomblue.com/event/merrie-mill-farm-and-vineyard-copy/2023-07-21/
LOCATION:Merrie Mill Farm and Vineyard\, 594 Merrie Mill Farm\, Keswick\, Virginia\, 22947
END:VEVENT
BEGIN:VEVENT
DTSTART;TZID=America/New_York:20230714T160000
DTEND;TZID=America/New_York:20230714T210000
DTSTAMP:20260422T160105
CREATED:20230621T004431Z
LAST-MODIFIED:20230803T160345Z
UID:10000072-1689350400-1689368400@saltybottomblue.com
SUMMARY:Merrie Mill Farm and Vineyard
DESCRIPTION:
URL:https://saltybottomblue.com/event/merrie-mill-farm-and-vineyard-copy/2023-07-14/
LOCATION:Merrie Mill Farm and Vineyard\, 594 Merrie Mill Farm\, Keswick\, Virginia\, 22947
END:VEVENT
BEGIN:VEVENT
DTSTART;TZID=America/New_York:20230707T160000
DTEND;TZID=America/New_York:20230707T210000
DTSTAMP:20260422T160105
CREATED:20230621T004431Z
LAST-MODIFIED:20230803T160345Z
UID:10000073-1688745600-1688763600@saltybottomblue.com
SUMMARY:Merrie Mill Farm and Vineyard
DESCRIPTION:
URL:https://saltybottomblue.com/event/merrie-mill-farm-and-vineyard-copy/2023-07-07/
LOCATION:Merrie Mill Farm and Vineyard\, 594 Merrie Mill Farm\, Keswick\, Virginia\, 22947
END:VEVENT
BEGIN:VEVENT
DTSTART;TZID=America/New_York:20230630T160000
DTEND;TZID=America/New_York:20230630T210000
DTSTAMP:20260422T160105
CREATED:20230621T004431Z
LAST-MODIFIED:20230803T160345Z
UID:10000058-1688140800-1688158800@saltybottomblue.com
SUMMARY:Merrie Mill Farm and Vineyard
DESCRIPTION:
URL:https://saltybottomblue.com/event/merrie-mill-farm-and-vineyard-copy/2023-06-30/
LOCATION:Merrie Mill Farm and Vineyard\, 594 Merrie Mill Farm\, Keswick\, Virginia\, 22947
END:VEVENT
BEGIN:VEVENT
DTSTART;TZID=America/New_York:20230526T160000
DTEND;TZID=America/New_York:20230526T200000
DTSTAMP:20260422T160105
CREATED:20230504T180613Z
LAST-MODIFIED:20230504T180614Z
UID:10000010-1685116800-1685131200@saltybottomblue.com
SUMMARY:Merrie Mill Farm and Vineyard
DESCRIPTION:
URL:https://saltybottomblue.com/event/merrie-mill-farm-and-vineyard/
LOCATION:Merrie Mill Farm and Vineyard\, 594 Merrie Mill Farm\, Keswick\, Virginia\, 22947
END:VEVENT
END:VCALENDAR