BEGIN:VCALENDAR
VERSION:2.0
PRODID:-//Salty Bottom Blue Oysters - ECPv6.15.20//NONSGML v1.0//EN
CALSCALE:GREGORIAN
METHOD:PUBLISH
X-ORIGINAL-URL:https://saltybottomblue.com
X-WR-CALDESC:Events for Salty Bottom Blue Oysters
REFRESH-INTERVAL;VALUE=DURATION:PT1H
X-Robots-Tag:noindex
X-PUBLISHED-TTL:PT1H
BEGIN:VTIMEZONE
TZID:America/New_York
BEGIN:DAYLIGHT
TZOFFSETFROM:-0500
TZOFFSETTO:-0400
TZNAME:EDT
DTSTART:20250309T070000
END:DAYLIGHT
BEGIN:STANDARD
TZOFFSETFROM:-0400
TZOFFSETTO:-0500
TZNAME:EST
DTSTART:20251102T060000
END:STANDARD
BEGIN:DAYLIGHT
TZOFFSETFROM:-0500
TZOFFSETTO:-0400
TZNAME:EDT
DTSTART:20260308T070000
END:DAYLIGHT
BEGIN:STANDARD
TZOFFSETFROM:-0400
TZOFFSETTO:-0500
TZNAME:EST
DTSTART:20261101T060000
END:STANDARD
BEGIN:DAYLIGHT
TZOFFSETFROM:-0500
TZOFFSETTO:-0400
TZNAME:EDT
DTSTART:20270314T070000
END:DAYLIGHT
BEGIN:STANDARD
TZOFFSETFROM:-0400
TZOFFSETTO:-0500
TZNAME:EST
DTSTART:20271107T060000
END:STANDARD
END:VTIMEZONE
BEGIN:VEVENT
DTSTART;TZID=America/New_York:20260419T120000
DTEND;TZID=America/New_York:20260419T170000
DTSTAMP:20260421T142155
CREATED:20260331T162739Z
LAST-MODIFIED:20260331T162740Z
UID:10000376-1776600000-1776618000@saltybottomblue.com
SUMMARY:Ingleside Oyster Crawl
DESCRIPTION:
URL:https://saltybottomblue.com/event/ingleside-oyster-crawl/2026-04-19/
LOCATION:Ingelside winery\, 5872 leedstown rd\, oak grove\, Virginia\, United States
END:VEVENT
BEGIN:VEVENT
DTSTART;TZID=America/New_York:20260418T120000
DTEND;TZID=America/New_York:20260418T170000
DTSTAMP:20260421T142155
CREATED:20260331T162739Z
LAST-MODIFIED:20260331T162740Z
UID:10000375-1776513600-1776531600@saltybottomblue.com
SUMMARY:Ingleside Oyster Crawl
DESCRIPTION:
URL:https://saltybottomblue.com/event/ingleside-oyster-crawl/2026-04-18/
LOCATION:Ingelside winery\, 5872 leedstown rd\, oak grove\, Virginia\, United States
END:VEVENT
END:VCALENDAR