BEGIN:VCALENDAR
VERSION:2.0
PRODID:-//Salty Bottom Blue Oysters - ECPv6.15.20//NONSGML v1.0//EN
CALSCALE:GREGORIAN
METHOD:PUBLISH
X-ORIGINAL-URL:https://saltybottomblue.com
X-WR-CALDESC:Events for Salty Bottom Blue Oysters
REFRESH-INTERVAL;VALUE=DURATION:PT1H
X-Robots-Tag:noindex
X-PUBLISHED-TTL:PT1H
BEGIN:VTIMEZONE
TZID:America/New_York
BEGIN:DAYLIGHT
TZOFFSETFROM:-0500
TZOFFSETTO:-0400
TZNAME:EDT
DTSTART:20230312T070000
END:DAYLIGHT
BEGIN:STANDARD
TZOFFSETFROM:-0400
TZOFFSETTO:-0500
TZNAME:EST
DTSTART:20231105T060000
END:STANDARD
BEGIN:DAYLIGHT
TZOFFSETFROM:-0500
TZOFFSETTO:-0400
TZNAME:EDT
DTSTART:20240310T070000
END:DAYLIGHT
BEGIN:STANDARD
TZOFFSETFROM:-0400
TZOFFSETTO:-0500
TZNAME:EST
DTSTART:20241103T060000
END:STANDARD
BEGIN:DAYLIGHT
TZOFFSETFROM:-0500
TZOFFSETTO:-0400
TZNAME:EDT
DTSTART:20250309T070000
END:DAYLIGHT
BEGIN:STANDARD
TZOFFSETFROM:-0400
TZOFFSETTO:-0500
TZNAME:EST
DTSTART:20251102T060000
END:STANDARD
BEGIN:DAYLIGHT
TZOFFSETFROM:-0500
TZOFFSETTO:-0400
TZNAME:EDT
DTSTART:20260308T070000
END:DAYLIGHT
BEGIN:STANDARD
TZOFFSETFROM:-0400
TZOFFSETTO:-0500
TZNAME:EST
DTSTART:20261101T060000
END:STANDARD
END:VTIMEZONE
BEGIN:VEVENT
DTSTART;TZID=America/New_York:20250504T120000
DTEND;TZID=America/New_York:20250504T170000
DTSTAMP:20260422T100535
CREATED:20250403T133449Z
LAST-MODIFIED:20250611T174953Z
UID:10000292-1746360000-1746378000@saltybottomblue.com
SUMMARY:Hazy Mountain: 2nd Annual Oyster Fest
DESCRIPTION:
URL:https://saltybottomblue.com/event/hazy-mountain-2nd-annual-oyster-fest/
LOCATION:Hazy Mountain Vineyards and Brewery\, 240 Hazy Mountain Ln\, Afton\, VA\, 22920
END:VEVENT
BEGIN:VEVENT
DTSTART;TZID=America/New_York:20240929T120000
DTEND;TZID=America/New_York:20240929T170000
DTSTAMP:20260422T100535
CREATED:20240926T170551Z
LAST-MODIFIED:20240926T170553Z
UID:10000154-1727611200-1727629200@saltybottomblue.com
SUMMARY:Hazy Mountain Lobsterpalooza
DESCRIPTION:
URL:https://saltybottomblue.com/event/hazy-mountain-lobsterpalooza/
LOCATION:Hazy Mountain Vineyards and Brewery\, 240 Hazy Mountain Ln\, Afton\, VA\, 22920
END:VEVENT
BEGIN:VEVENT
DTSTART;TZID=America/New_York:20240407T110000
DTEND;TZID=America/New_York:20240407T170000
DTSTAMP:20260422T100535
CREATED:20240322T173624Z
LAST-MODIFIED:20240322T173627Z
UID:10000102-1712487600-1712509200@saltybottomblue.com
SUMMARY:Hazy Mountain: 1st annual Oyster Fest
DESCRIPTION:
URL:https://saltybottomblue.com/event/hazy-mountain-1st-annual-oyster-fest/
LOCATION:Hazy Mountain Vineyards and Brewery\, 240 Hazy Mountain Ln\, Afton\, VA\, 22920
END:VEVENT
END:VCALENDAR