BEGIN:VCALENDAR
VERSION:2.0
PRODID:-//Salty Bottom Blue Oysters - ECPv6.15.20//NONSGML v1.0//EN
CALSCALE:GREGORIAN
METHOD:PUBLISH
X-ORIGINAL-URL:https://saltybottomblue.com
X-WR-CALDESC:Events for Salty Bottom Blue Oysters
REFRESH-INTERVAL;VALUE=DURATION:PT1H
X-Robots-Tag:noindex
X-PUBLISHED-TTL:PT1H
BEGIN:VTIMEZONE
TZID:America/New_York
BEGIN:DAYLIGHT
TZOFFSETFROM:-0500
TZOFFSETTO:-0400
TZNAME:EDT
DTSTART:20220313T070000
END:DAYLIGHT
BEGIN:STANDARD
TZOFFSETFROM:-0400
TZOFFSETTO:-0500
TZNAME:EST
DTSTART:20221106T060000
END:STANDARD
BEGIN:DAYLIGHT
TZOFFSETFROM:-0500
TZOFFSETTO:-0400
TZNAME:EDT
DTSTART:20230312T070000
END:DAYLIGHT
BEGIN:STANDARD
TZOFFSETFROM:-0400
TZOFFSETTO:-0500
TZNAME:EST
DTSTART:20231105T060000
END:STANDARD
BEGIN:DAYLIGHT
TZOFFSETFROM:-0500
TZOFFSETTO:-0400
TZNAME:EDT
DTSTART:20240310T070000
END:DAYLIGHT
BEGIN:STANDARD
TZOFFSETFROM:-0400
TZOFFSETTO:-0500
TZNAME:EST
DTSTART:20241103T060000
END:STANDARD
BEGIN:DAYLIGHT
TZOFFSETFROM:-0500
TZOFFSETTO:-0400
TZNAME:EDT
DTSTART:20250309T070000
END:DAYLIGHT
BEGIN:STANDARD
TZOFFSETFROM:-0400
TZOFFSETTO:-0500
TZNAME:EST
DTSTART:20251102T060000
END:STANDARD
BEGIN:DAYLIGHT
TZOFFSETFROM:-0500
TZOFFSETTO:-0400
TZNAME:EDT
DTSTART:20260308T070000
END:DAYLIGHT
BEGIN:STANDARD
TZOFFSETFROM:-0400
TZOFFSETTO:-0500
TZNAME:EST
DTSTART:20261101T060000
END:STANDARD
END:VTIMEZONE
BEGIN:VEVENT
DTSTART;TZID=America/New_York:20250503T120000
DTEND;TZID=America/New_York:20250503T190000
DTSTAMP:20260422T130513
CREATED:20250403T133135Z
LAST-MODIFIED:20250403T133139Z
UID:10000287-1746273600-1746298800@saltybottomblue.com
SUMMARY:Hark Vineyards
DESCRIPTION:
URL:https://saltybottomblue.com/event/hark-vineyards-2/
LOCATION:Hark Vineyards\, 1465 Davis Shop Rd\, Earlysville\, Virginia\, 22936
END:VEVENT
BEGIN:VEVENT
DTSTART;TZID=America/New_York:20240921T130000
DTEND;TZID=America/New_York:20240921T180000
DTSTAMP:20260422T130513
CREATED:20240823T123923Z
LAST-MODIFIED:20240823T123926Z
UID:10000150-1726923600-1726941600@saltybottomblue.com
SUMMARY:Hark Vineyards LOBSTERPALOOZA and Oyster fest
DESCRIPTION:
URL:https://saltybottomblue.com/event/hark-vineyards-lobsterpalooza-and-oyster-fest/
LOCATION:Hark Vineyards\, 1465 Davis Shop Rd\, Earlysville\, Virginia\, 22936
END:VEVENT
BEGIN:VEVENT
DTSTART;TZID=America/New_York:20231007T120000
DTEND;TZID=America/New_York:20231007T200000
DTSTAMP:20260422T130513
CREATED:20230504T175730Z
LAST-MODIFIED:20230621T160434Z
UID:10000057-1696680000-1696708800@saltybottomblue.com
SUMMARY:Hark Vineyards
DESCRIPTION:
URL:https://saltybottomblue.com/event/hark-vineyards/2023-10-07/
LOCATION:Hark Vineyards\, 1465 Davis Shop Rd\, Earlysville\, Virginia\, 22936
END:VEVENT
BEGIN:VEVENT
DTSTART;TZID=America/New_York:20230902T120000
DTEND;TZID=America/New_York:20230902T200000
DTSTAMP:20260422T130513
CREATED:20230504T175730Z
LAST-MODIFIED:20230621T160434Z
UID:10000056-1693656000-1693684800@saltybottomblue.com
SUMMARY:Hark Vineyards
DESCRIPTION:
URL:https://saltybottomblue.com/event/hark-vineyards/2023-09-02/
LOCATION:Hark Vineyards\, 1465 Davis Shop Rd\, Earlysville\, Virginia\, 22936
END:VEVENT
BEGIN:VEVENT
DTSTART;TZID=America/New_York:20230805T120000
DTEND;TZID=America/New_York:20230805T200000
DTSTAMP:20260422T130513
CREATED:20230504T175730Z
LAST-MODIFIED:20230621T160434Z
UID:10000055-1691236800-1691265600@saltybottomblue.com
SUMMARY:Hark Vineyards
DESCRIPTION:
URL:https://saltybottomblue.com/event/hark-vineyards/2023-08-05/
LOCATION:Hark Vineyards\, 1465 Davis Shop Rd\, Earlysville\, Virginia\, 22936
END:VEVENT
BEGIN:VEVENT
DTSTART;TZID=America/New_York:20230701T120000
DTEND;TZID=America/New_York:20230701T200000
DTSTAMP:20260422T130513
CREATED:20230504T175730Z
LAST-MODIFIED:20230621T160434Z
UID:10000054-1688212800-1688241600@saltybottomblue.com
SUMMARY:Hark Vineyards
DESCRIPTION:
URL:https://saltybottomblue.com/event/hark-vineyards/2023-07-01/
LOCATION:Hark Vineyards\, 1465 Davis Shop Rd\, Earlysville\, Virginia\, 22936
END:VEVENT
END:VCALENDAR