BEGIN:VCALENDAR
VERSION:2.0
PRODID:-//Salty Bottom Blue Oysters - ECPv6.15.20//NONSGML v1.0//EN
CALSCALE:GREGORIAN
METHOD:PUBLISH
X-ORIGINAL-URL:https://saltybottomblue.com
X-WR-CALDESC:Events for Salty Bottom Blue Oysters
REFRESH-INTERVAL;VALUE=DURATION:PT1H
X-Robots-Tag:noindex
X-PUBLISHED-TTL:PT1H
BEGIN:VTIMEZONE
TZID:America/New_York
BEGIN:DAYLIGHT
TZOFFSETFROM:-0500
TZOFFSETTO:-0400
TZNAME:EDT
DTSTART:20230312T070000
END:DAYLIGHT
BEGIN:STANDARD
TZOFFSETFROM:-0400
TZOFFSETTO:-0500
TZNAME:EST
DTSTART:20231105T060000
END:STANDARD
BEGIN:DAYLIGHT
TZOFFSETFROM:-0500
TZOFFSETTO:-0400
TZNAME:EDT
DTSTART:20240310T070000
END:DAYLIGHT
BEGIN:STANDARD
TZOFFSETFROM:-0400
TZOFFSETTO:-0500
TZNAME:EST
DTSTART:20241103T060000
END:STANDARD
BEGIN:DAYLIGHT
TZOFFSETFROM:-0500
TZOFFSETTO:-0400
TZNAME:EDT
DTSTART:20250309T070000
END:DAYLIGHT
BEGIN:STANDARD
TZOFFSETFROM:-0400
TZOFFSETTO:-0500
TZNAME:EST
DTSTART:20251102T060000
END:STANDARD
BEGIN:DAYLIGHT
TZOFFSETFROM:-0500
TZOFFSETTO:-0400
TZNAME:EDT
DTSTART:20260308T070000
END:DAYLIGHT
BEGIN:STANDARD
TZOFFSETFROM:-0400
TZOFFSETTO:-0500
TZNAME:EST
DTSTART:20261101T060000
END:STANDARD
END:VTIMEZONE
BEGIN:VEVENT
DTSTART;TZID=America/New_York:20251018T120000
DTEND;TZID=America/New_York:20251018T170000
DTSTAMP:20260422T040438
CREATED:20250403T130129Z
LAST-MODIFIED:20250403T130132Z
UID:10000282-1760788800-1760806800@saltybottomblue.com
SUMMARY:53rd Winery & Vineyard
DESCRIPTION:
URL:https://saltybottomblue.com/event/53rd-winery-vineyard-2/2025-10-18/
LOCATION:Fifty-Third Winery & Vineyard\, 13372 Shannon Hill Rd\, Louisa\, Virginia\, 23093\, United States
END:VEVENT
BEGIN:VEVENT
DTSTART;TZID=America/New_York:20250503T120000
DTEND;TZID=America/New_York:20250503T170000
DTSTAMP:20260422T040438
CREATED:20250403T130129Z
LAST-MODIFIED:20250403T130132Z
UID:10000281-1746273600-1746291600@saltybottomblue.com
SUMMARY:53rd Winery & Vineyard
DESCRIPTION:
URL:https://saltybottomblue.com/event/53rd-winery-vineyard-2/2025-05-03/
LOCATION:Fifty-Third Winery & Vineyard\, 13372 Shannon Hill Rd\, Louisa\, Virginia\, 23093\, United States
END:VEVENT
BEGIN:VEVENT
DTSTART;TZID=America/New_York:20241019T120000
DTEND;TZID=America/New_York:20241019T170000
DTSTAMP:20260422T040438
CREATED:20230621T154234Z
LAST-MODIFIED:20240322T171949Z
UID:10000094-1729339200-1729357200@saltybottomblue.com
SUMMARY:53rd Winery & Vineyard
DESCRIPTION:
URL:https://saltybottomblue.com/event/53rd-winery-vineyard/2024-10-19/
LOCATION:Fifty-Third Winery & Vineyard\, 13372 Shannon Hill Rd\, Louisa\, Virginia\, 23093\, United States
END:VEVENT
BEGIN:VEVENT
DTSTART;TZID=America/New_York:20240427T120000
DTEND;TZID=America/New_York:20240427T170000
DTSTAMP:20260422T040438
CREATED:20230621T154234Z
LAST-MODIFIED:20240322T171949Z
UID:10000093-1714219200-1714237200@saltybottomblue.com
SUMMARY:53rd Winery & Vineyard
DESCRIPTION:
URL:https://saltybottomblue.com/event/53rd-winery-vineyard/2024-04-27/
LOCATION:Fifty-Third Winery & Vineyard\, 13372 Shannon Hill Rd\, Louisa\, Virginia\, 23093\, United States
END:VEVENT
END:VCALENDAR