BEGIN:VCALENDAR
VERSION:2.0
PRODID:-//Salty Bottom Blue Oysters - ECPv6.15.20//NONSGML v1.0//EN
CALSCALE:GREGORIAN
METHOD:PUBLISH
X-WR-CALNAME:Salty Bottom Blue Oysters
X-ORIGINAL-URL:https://saltybottomblue.com
X-WR-CALDESC:Events for Salty Bottom Blue Oysters
REFRESH-INTERVAL;VALUE=DURATION:PT1H
X-Robots-Tag:noindex
X-PUBLISHED-TTL:PT1H
BEGIN:VTIMEZONE
TZID:America/New_York
BEGIN:DAYLIGHT
TZOFFSETFROM:-0500
TZOFFSETTO:-0400
TZNAME:EDT
DTSTART:20220313T070000
END:DAYLIGHT
BEGIN:STANDARD
TZOFFSETFROM:-0400
TZOFFSETTO:-0500
TZNAME:EST
DTSTART:20221106T060000
END:STANDARD
BEGIN:DAYLIGHT
TZOFFSETFROM:-0500
TZOFFSETTO:-0400
TZNAME:EDT
DTSTART:20230312T070000
END:DAYLIGHT
BEGIN:STANDARD
TZOFFSETFROM:-0400
TZOFFSETTO:-0500
TZNAME:EST
DTSTART:20231105T060000
END:STANDARD
BEGIN:DAYLIGHT
TZOFFSETFROM:-0500
TZOFFSETTO:-0400
TZNAME:EDT
DTSTART:20240310T070000
END:DAYLIGHT
BEGIN:STANDARD
TZOFFSETFROM:-0400
TZOFFSETTO:-0500
TZNAME:EST
DTSTART:20241103T060000
END:STANDARD
END:VTIMEZONE
BEGIN:VEVENT
DTSTART;TZID=America/New_York:20230519T160000
DTEND;TZID=America/New_York:20230519T200000
DTSTAMP:20260422T130819
CREATED:20230504T175858Z
LAST-MODIFIED:20230504T175859Z
UID:10000006-1684512000-1684526400@saltybottomblue.com
SUMMARY:Eastwood Farm & Winery
DESCRIPTION:
URL:https://saltybottomblue.com/event/eastwood-farm-winery-2/
LOCATION:Eastwood Farm & Winery\, 2531 Scottsville Rd\, Charlottesville\, Virginia\, 22902
END:VEVENT
BEGIN:VEVENT
DTSTART;TZID=America/New_York:20230512T160000
DTEND;TZID=America/New_York:20230512T200000
DTSTAMP:20260422T130819
CREATED:20230424T131746Z
LAST-MODIFIED:20230504T174728Z
UID:10000001-1683907200-1683921600@saltybottomblue.com
SUMMARY:Eastwood Farm & Winery
DESCRIPTION:
URL:https://saltybottomblue.com/event/eastwood-farm-winery/
LOCATION:Eastwood Farm & Winery\, 2531 Scottsville Rd\, Charlottesville\, Virginia\, 22902
END:VEVENT
END:VCALENDAR