BEGIN:VCALENDAR
VERSION:2.0
PRODID:-//Salty Bottom Blue Oysters - ECPv6.15.20//NONSGML v1.0//EN
CALSCALE:GREGORIAN
METHOD:PUBLISH
X-WR-CALNAME:Salty Bottom Blue Oysters
X-ORIGINAL-URL:https://saltybottomblue.com
X-WR-CALDESC:Events for Salty Bottom Blue Oysters
REFRESH-INTERVAL;VALUE=DURATION:PT1H
X-Robots-Tag:noindex
X-PUBLISHED-TTL:PT1H
BEGIN:VTIMEZONE
TZID:America/New_York
BEGIN:DAYLIGHT
TZOFFSETFROM:-0500
TZOFFSETTO:-0400
TZNAME:EDT
DTSTART:20220313T070000
END:DAYLIGHT
BEGIN:STANDARD
TZOFFSETFROM:-0400
TZOFFSETTO:-0500
TZNAME:EST
DTSTART:20221106T060000
END:STANDARD
BEGIN:DAYLIGHT
TZOFFSETFROM:-0500
TZOFFSETTO:-0400
TZNAME:EDT
DTSTART:20230312T070000
END:DAYLIGHT
BEGIN:STANDARD
TZOFFSETFROM:-0400
TZOFFSETTO:-0500
TZNAME:EST
DTSTART:20231105T060000
END:STANDARD
BEGIN:DAYLIGHT
TZOFFSETFROM:-0500
TZOFFSETTO:-0400
TZNAME:EDT
DTSTART:20240310T070000
END:DAYLIGHT
BEGIN:STANDARD
TZOFFSETFROM:-0400
TZOFFSETTO:-0500
TZNAME:EST
DTSTART:20241103T060000
END:STANDARD
BEGIN:DAYLIGHT
TZOFFSETFROM:-0500
TZOFFSETTO:-0400
TZNAME:EDT
DTSTART:20250309T070000
END:DAYLIGHT
BEGIN:STANDARD
TZOFFSETFROM:-0400
TZOFFSETTO:-0500
TZNAME:EST
DTSTART:20251102T060000
END:STANDARD
END:VTIMEZONE
BEGIN:VEVENT
DTSTART;TZID=America/New_York:20241018T160000
DTEND;TZID=America/New_York:20241018T200000
DTSTAMP:20260422T071401
CREATED:20240322T174008Z
LAST-MODIFIED:20240322T191043Z
UID:10000135-1729267200-1729281600@saltybottomblue.com
SUMMARY:Eastwood Farm & Winery
DESCRIPTION:
URL:https://saltybottomblue.com/event/eastwood-farm-winery-5/2024-10-18/
LOCATION:Eastwood Farm & Winery\, 2531 Scottsville Rd\, Charlottesville\, Virginia\, 22902
END:VEVENT
BEGIN:VEVENT
DTSTART;TZID=America/New_York:20241011T160000
DTEND;TZID=America/New_York:20241011T200000
DTSTAMP:20260422T071401
CREATED:20240322T174008Z
LAST-MODIFIED:20240322T191043Z
UID:10000134-1728662400-1728676800@saltybottomblue.com
SUMMARY:Eastwood Farm & Winery
DESCRIPTION:
URL:https://saltybottomblue.com/event/eastwood-farm-winery-5/2024-10-11/
LOCATION:Eastwood Farm & Winery\, 2531 Scottsville Rd\, Charlottesville\, Virginia\, 22902
END:VEVENT
BEGIN:VEVENT
DTSTART;TZID=America/New_York:20241004T160000
DTEND;TZID=America/New_York:20241004T200000
DTSTAMP:20260422T071401
CREATED:20240322T174008Z
LAST-MODIFIED:20240322T191043Z
UID:10000133-1728057600-1728072000@saltybottomblue.com
SUMMARY:Eastwood Farm & Winery
DESCRIPTION:
URL:https://saltybottomblue.com/event/eastwood-farm-winery-5/2024-10-04/
LOCATION:Eastwood Farm & Winery\, 2531 Scottsville Rd\, Charlottesville\, Virginia\, 22902
END:VEVENT
BEGIN:VEVENT
DTSTART;TZID=America/New_York:20240927T160000
DTEND;TZID=America/New_York:20240927T200000
DTSTAMP:20260422T071401
CREATED:20240322T174008Z
LAST-MODIFIED:20240322T191043Z
UID:10000132-1727452800-1727467200@saltybottomblue.com
SUMMARY:Eastwood Farm & Winery
DESCRIPTION:
URL:https://saltybottomblue.com/event/eastwood-farm-winery-5/2024-09-27/
LOCATION:Eastwood Farm & Winery\, 2531 Scottsville Rd\, Charlottesville\, Virginia\, 22902
END:VEVENT
BEGIN:VEVENT
DTSTART;TZID=America/New_York:20240920T160000
DTEND;TZID=America/New_York:20240920T200000
DTSTAMP:20260422T071401
CREATED:20240322T174008Z
LAST-MODIFIED:20240322T191043Z
UID:10000131-1726848000-1726862400@saltybottomblue.com
SUMMARY:Eastwood Farm & Winery
DESCRIPTION:
URL:https://saltybottomblue.com/event/eastwood-farm-winery-5/2024-09-20/
LOCATION:Eastwood Farm & Winery\, 2531 Scottsville Rd\, Charlottesville\, Virginia\, 22902
END:VEVENT
BEGIN:VEVENT
DTSTART;TZID=America/New_York:20240913T160000
DTEND;TZID=America/New_York:20240913T200000
DTSTAMP:20260422T071401
CREATED:20240322T174008Z
LAST-MODIFIED:20240322T191043Z
UID:10000130-1726243200-1726257600@saltybottomblue.com
SUMMARY:Eastwood Farm & Winery
DESCRIPTION:
URL:https://saltybottomblue.com/event/eastwood-farm-winery-5/2024-09-13/
LOCATION:Eastwood Farm & Winery\, 2531 Scottsville Rd\, Charlottesville\, Virginia\, 22902
END:VEVENT
BEGIN:VEVENT
DTSTART;TZID=America/New_York:20240906T160000
DTEND;TZID=America/New_York:20240906T200000
DTSTAMP:20260422T071401
CREATED:20240322T174008Z
LAST-MODIFIED:20240322T191043Z
UID:10000129-1725638400-1725652800@saltybottomblue.com
SUMMARY:Eastwood Farm & Winery
DESCRIPTION:
URL:https://saltybottomblue.com/event/eastwood-farm-winery-5/2024-09-06/
LOCATION:Eastwood Farm & Winery\, 2531 Scottsville Rd\, Charlottesville\, Virginia\, 22902
END:VEVENT
BEGIN:VEVENT
DTSTART;TZID=America/New_York:20240830T160000
DTEND;TZID=America/New_York:20240830T200000
DTSTAMP:20260422T071401
CREATED:20240322T174008Z
LAST-MODIFIED:20240322T191043Z
UID:10000128-1725033600-1725048000@saltybottomblue.com
SUMMARY:Eastwood Farm & Winery
DESCRIPTION:
URL:https://saltybottomblue.com/event/eastwood-farm-winery-5/2024-08-30/
LOCATION:Eastwood Farm & Winery\, 2531 Scottsville Rd\, Charlottesville\, Virginia\, 22902
END:VEVENT
BEGIN:VEVENT
DTSTART;TZID=America/New_York:20240823T160000
DTEND;TZID=America/New_York:20240823T200000
DTSTAMP:20260422T071401
CREATED:20240322T174008Z
LAST-MODIFIED:20240322T191043Z
UID:10000127-1724428800-1724443200@saltybottomblue.com
SUMMARY:Eastwood Farm & Winery
DESCRIPTION:
URL:https://saltybottomblue.com/event/eastwood-farm-winery-5/2024-08-23/
LOCATION:Eastwood Farm & Winery\, 2531 Scottsville Rd\, Charlottesville\, Virginia\, 22902
END:VEVENT
BEGIN:VEVENT
DTSTART;TZID=America/New_York:20240816T160000
DTEND;TZID=America/New_York:20240816T200000
DTSTAMP:20260422T071401
CREATED:20240322T174008Z
LAST-MODIFIED:20240322T191043Z
UID:10000126-1723824000-1723838400@saltybottomblue.com
SUMMARY:Eastwood Farm & Winery
DESCRIPTION:
URL:https://saltybottomblue.com/event/eastwood-farm-winery-5/2024-08-16/
LOCATION:Eastwood Farm & Winery\, 2531 Scottsville Rd\, Charlottesville\, Virginia\, 22902
END:VEVENT
BEGIN:VEVENT
DTSTART;TZID=America/New_York:20240809T160000
DTEND;TZID=America/New_York:20240809T200000
DTSTAMP:20260422T071401
CREATED:20240322T174008Z
LAST-MODIFIED:20240322T191043Z
UID:10000125-1723219200-1723233600@saltybottomblue.com
SUMMARY:Eastwood Farm & Winery
DESCRIPTION:
URL:https://saltybottomblue.com/event/eastwood-farm-winery-5/2024-08-09/
LOCATION:Eastwood Farm & Winery\, 2531 Scottsville Rd\, Charlottesville\, Virginia\, 22902
END:VEVENT
BEGIN:VEVENT
DTSTART;TZID=America/New_York:20240803T130000
DTEND;TZID=America/New_York:20240803T160000
DTSTAMP:20260422T071401
CREATED:20240731T172725Z
LAST-MODIFIED:20240731T173206Z
UID:10000143-1722690000-1722700800@saltybottomblue.com
SUMMARY:BLUE CRAB FEAST at eastwood *until sold out*
DESCRIPTION:
URL:https://saltybottomblue.com/event/blue-crab-feast-at-eastwood-until-sold-out/
LOCATION:Eastwood Farm & Winery\, 2531 Scottsville Rd\, Charlottesville\, Virginia\, 22902
END:VEVENT
BEGIN:VEVENT
DTSTART;TZID=America/New_York:20240802T160000
DTEND;TZID=America/New_York:20240802T200000
DTSTAMP:20260422T071401
CREATED:20240322T174008Z
LAST-MODIFIED:20240322T191043Z
UID:10000124-1722614400-1722628800@saltybottomblue.com
SUMMARY:Eastwood Farm & Winery
DESCRIPTION:
URL:https://saltybottomblue.com/event/eastwood-farm-winery-5/2024-08-02/
LOCATION:Eastwood Farm & Winery\, 2531 Scottsville Rd\, Charlottesville\, Virginia\, 22902
END:VEVENT
BEGIN:VEVENT
DTSTART;TZID=America/New_York:20240726T160000
DTEND;TZID=America/New_York:20240726T200000
DTSTAMP:20260422T071401
CREATED:20240322T174008Z
LAST-MODIFIED:20240322T191043Z
UID:10000123-1722009600-1722024000@saltybottomblue.com
SUMMARY:Eastwood Farm & Winery
DESCRIPTION:
URL:https://saltybottomblue.com/event/eastwood-farm-winery-5/2024-07-26/
LOCATION:Eastwood Farm & Winery\, 2531 Scottsville Rd\, Charlottesville\, Virginia\, 22902
END:VEVENT
BEGIN:VEVENT
DTSTART;TZID=America/New_York:20240719T160000
DTEND;TZID=America/New_York:20240719T200000
DTSTAMP:20260422T071401
CREATED:20240322T174008Z
LAST-MODIFIED:20240322T191043Z
UID:10000122-1721404800-1721419200@saltybottomblue.com
SUMMARY:Eastwood Farm & Winery
DESCRIPTION:
URL:https://saltybottomblue.com/event/eastwood-farm-winery-5/2024-07-19/
LOCATION:Eastwood Farm & Winery\, 2531 Scottsville Rd\, Charlottesville\, Virginia\, 22902
END:VEVENT
BEGIN:VEVENT
DTSTART;TZID=America/New_York:20240712T160000
DTEND;TZID=America/New_York:20240712T200000
DTSTAMP:20260422T071401
CREATED:20240322T174008Z
LAST-MODIFIED:20240322T191043Z
UID:10000121-1720800000-1720814400@saltybottomblue.com
SUMMARY:Eastwood Farm & Winery
DESCRIPTION:
URL:https://saltybottomblue.com/event/eastwood-farm-winery-5/2024-07-12/
LOCATION:Eastwood Farm & Winery\, 2531 Scottsville Rd\, Charlottesville\, Virginia\, 22902
END:VEVENT
BEGIN:VEVENT
DTSTART;TZID=America/New_York:20240707T120000
DTEND;TZID=America/New_York:20240707T170000
DTSTAMP:20260422T071401
CREATED:20240607T143527Z
LAST-MODIFIED:20240607T143527Z
UID:10000138-1720353600-1720371600@saltybottomblue.com
SUMMARY:Eastwood LobsterFest
DESCRIPTION:
URL:https://saltybottomblue.com/event/eastwood-lobsterfest/
LOCATION:Eastwood Farm & Winery\, 2531 Scottsville Rd\, Charlottesville\, Virginia\, 22902
END:VEVENT
BEGIN:VEVENT
DTSTART;TZID=America/New_York:20240705T160000
DTEND;TZID=America/New_York:20240705T200000
DTSTAMP:20260422T071401
CREATED:20240322T174008Z
LAST-MODIFIED:20240322T191043Z
UID:10000120-1720195200-1720209600@saltybottomblue.com
SUMMARY:Eastwood Farm & Winery
DESCRIPTION:
URL:https://saltybottomblue.com/event/eastwood-farm-winery-5/2024-07-05/
LOCATION:Eastwood Farm & Winery\, 2531 Scottsville Rd\, Charlottesville\, Virginia\, 22902
END:VEVENT
BEGIN:VEVENT
DTSTART;TZID=America/New_York:20240628T160000
DTEND;TZID=America/New_York:20240628T200000
DTSTAMP:20260422T071401
CREATED:20240322T174008Z
LAST-MODIFIED:20240322T191043Z
UID:10000119-1719590400-1719604800@saltybottomblue.com
SUMMARY:Eastwood Farm & Winery
DESCRIPTION:
URL:https://saltybottomblue.com/event/eastwood-farm-winery-5/2024-06-28/
LOCATION:Eastwood Farm & Winery\, 2531 Scottsville Rd\, Charlottesville\, Virginia\, 22902
END:VEVENT
BEGIN:VEVENT
DTSTART;TZID=America/New_York:20240621T160000
DTEND;TZID=America/New_York:20240621T200000
DTSTAMP:20260422T071401
CREATED:20240322T174008Z
LAST-MODIFIED:20240322T191043Z
UID:10000118-1718985600-1719000000@saltybottomblue.com
SUMMARY:Eastwood Farm & Winery
DESCRIPTION:
URL:https://saltybottomblue.com/event/eastwood-farm-winery-5/2024-06-21/
LOCATION:Eastwood Farm & Winery\, 2531 Scottsville Rd\, Charlottesville\, Virginia\, 22902
END:VEVENT
BEGIN:VEVENT
DTSTART;TZID=America/New_York:20240614T160000
DTEND;TZID=America/New_York:20240614T200000
DTSTAMP:20260422T071401
CREATED:20240322T174008Z
LAST-MODIFIED:20240322T191043Z
UID:10000117-1718380800-1718395200@saltybottomblue.com
SUMMARY:Eastwood Farm & Winery
DESCRIPTION:
URL:https://saltybottomblue.com/event/eastwood-farm-winery-5/2024-06-14/
LOCATION:Eastwood Farm & Winery\, 2531 Scottsville Rd\, Charlottesville\, Virginia\, 22902
END:VEVENT
BEGIN:VEVENT
DTSTART;TZID=America/New_York:20240531T160000
DTEND;TZID=America/New_York:20240531T200000
DTSTAMP:20260422T071401
CREATED:20240322T174008Z
LAST-MODIFIED:20240322T191043Z
UID:10000116-1717171200-1717185600@saltybottomblue.com
SUMMARY:Eastwood Farm & Winery
DESCRIPTION:
URL:https://saltybottomblue.com/event/eastwood-farm-winery-5/2024-05-31/
LOCATION:Eastwood Farm & Winery\, 2531 Scottsville Rd\, Charlottesville\, Virginia\, 22902
END:VEVENT
BEGIN:VEVENT
DTSTART;TZID=America/New_York:20240524T160000
DTEND;TZID=America/New_York:20240524T200000
DTSTAMP:20260422T071401
CREATED:20240322T174008Z
LAST-MODIFIED:20240322T191043Z
UID:10000115-1716566400-1716580800@saltybottomblue.com
SUMMARY:Eastwood Farm & Winery
DESCRIPTION:
URL:https://saltybottomblue.com/event/eastwood-farm-winery-5/2024-05-24/
LOCATION:Eastwood Farm & Winery\, 2531 Scottsville Rd\, Charlottesville\, Virginia\, 22902
END:VEVENT
BEGIN:VEVENT
DTSTART;TZID=America/New_York:20240517T160000
DTEND;TZID=America/New_York:20240517T200000
DTSTAMP:20260422T071401
CREATED:20240322T174008Z
LAST-MODIFIED:20240322T191043Z
UID:10000114-1715961600-1715976000@saltybottomblue.com
SUMMARY:Eastwood Farm & Winery
DESCRIPTION:
URL:https://saltybottomblue.com/event/eastwood-farm-winery-5/2024-05-17/
LOCATION:Eastwood Farm & Winery\, 2531 Scottsville Rd\, Charlottesville\, Virginia\, 22902
END:VEVENT
BEGIN:VEVENT
DTSTART;TZID=America/New_York:20240510T160000
DTEND;TZID=America/New_York:20240510T200000
DTSTAMP:20260422T071401
CREATED:20240322T174008Z
LAST-MODIFIED:20240322T191043Z
UID:10000113-1715356800-1715371200@saltybottomblue.com
SUMMARY:Eastwood Farm & Winery
DESCRIPTION:
URL:https://saltybottomblue.com/event/eastwood-farm-winery-5/2024-05-10/
LOCATION:Eastwood Farm & Winery\, 2531 Scottsville Rd\, Charlottesville\, Virginia\, 22902
END:VEVENT
BEGIN:VEVENT
DTSTART;TZID=America/New_York:20240426T160000
DTEND;TZID=America/New_York:20240426T200000
DTSTAMP:20260422T071401
CREATED:20240322T174008Z
LAST-MODIFIED:20240322T191043Z
UID:10000112-1714147200-1714161600@saltybottomblue.com
SUMMARY:Eastwood Farm & Winery
DESCRIPTION:
URL:https://saltybottomblue.com/event/eastwood-farm-winery-5/2024-04-26/
LOCATION:Eastwood Farm & Winery\, 2531 Scottsville Rd\, Charlottesville\, Virginia\, 22902
END:VEVENT
BEGIN:VEVENT
DTSTART;TZID=America/New_York:20240419T160000
DTEND;TZID=America/New_York:20240419T200000
DTSTAMP:20260422T071401
CREATED:20240322T174008Z
LAST-MODIFIED:20240322T191043Z
UID:10000111-1713542400-1713556800@saltybottomblue.com
SUMMARY:Eastwood Farm & Winery
DESCRIPTION:
URL:https://saltybottomblue.com/event/eastwood-farm-winery-5/2024-04-19/
LOCATION:Eastwood Farm & Winery\, 2531 Scottsville Rd\, Charlottesville\, Virginia\, 22902
END:VEVENT
BEGIN:VEVENT
DTSTART;TZID=America/New_York:20240412T160000
DTEND;TZID=America/New_York:20240412T200000
DTSTAMP:20260422T071401
CREATED:20240322T174008Z
LAST-MODIFIED:20240322T191043Z
UID:10000110-1712937600-1712952000@saltybottomblue.com
SUMMARY:Eastwood Farm & Winery
DESCRIPTION:
URL:https://saltybottomblue.com/event/eastwood-farm-winery-5/2024-04-12/
LOCATION:Eastwood Farm & Winery\, 2531 Scottsville Rd\, Charlottesville\, Virginia\, 22902
END:VEVENT
BEGIN:VEVENT
DTSTART;TZID=America/New_York:20240405T160000
DTEND;TZID=America/New_York:20240405T200000
DTSTAMP:20260422T071401
CREATED:20240322T174008Z
LAST-MODIFIED:20240322T191043Z
UID:10000034-1712332800-1712347200@saltybottomblue.com
SUMMARY:Eastwood Farm & Winery
DESCRIPTION:
URL:https://saltybottomblue.com/event/eastwood-farm-winery-5/2024-04-05/
LOCATION:Eastwood Farm & Winery\, 2531 Scottsville Rd\, Charlottesville\, Virginia\, 22902
END:VEVENT
BEGIN:VEVENT
DTSTART;TZID=America/New_York:20231020T160000
DTEND;TZID=America/New_York:20231020T200000
DTSTAMP:20260422T071401
CREATED:20230620T205929Z
LAST-MODIFIED:20230620T205930Z
UID:10000033-1697817600-1697832000@saltybottomblue.com
SUMMARY:Eastwood Farm & Winery
DESCRIPTION:
URL:https://saltybottomblue.com/event/eastwood-farm-winery-4/2023-10-20/
LOCATION:Eastwood Farm & Winery\, 2531 Scottsville Rd\, Charlottesville\, Virginia\, 22902
END:VEVENT
END:VCALENDAR