BEGIN:VCALENDAR
VERSION:2.0
PRODID:-//Salty Bottom Blue Oysters - ECPv6.15.20//NONSGML v1.0//EN
CALSCALE:GREGORIAN
METHOD:PUBLISH
X-ORIGINAL-URL:https://saltybottomblue.com
X-WR-CALDESC:Events for Salty Bottom Blue Oysters
REFRESH-INTERVAL;VALUE=DURATION:PT1H
X-Robots-Tag:noindex
X-PUBLISHED-TTL:PT1H
BEGIN:VTIMEZONE
TZID:America/New_York
BEGIN:DAYLIGHT
TZOFFSETFROM:-0500
TZOFFSETTO:-0400
TZNAME:EDT
DTSTART:20240310T070000
END:DAYLIGHT
BEGIN:STANDARD
TZOFFSETFROM:-0400
TZOFFSETTO:-0500
TZNAME:EST
DTSTART:20241103T060000
END:STANDARD
BEGIN:DAYLIGHT
TZOFFSETFROM:-0500
TZOFFSETTO:-0400
TZNAME:EDT
DTSTART:20250309T070000
END:DAYLIGHT
BEGIN:STANDARD
TZOFFSETFROM:-0400
TZOFFSETTO:-0500
TZNAME:EST
DTSTART:20251102T060000
END:STANDARD
BEGIN:DAYLIGHT
TZOFFSETFROM:-0500
TZOFFSETTO:-0400
TZNAME:EDT
DTSTART:20260308T070000
END:DAYLIGHT
BEGIN:STANDARD
TZOFFSETFROM:-0400
TZOFFSETTO:-0500
TZNAME:EST
DTSTART:20261101T060000
END:STANDARD
BEGIN:DAYLIGHT
TZOFFSETFROM:-0500
TZOFFSETTO:-0400
TZNAME:EDT
DTSTART:20270314T070000
END:DAYLIGHT
BEGIN:STANDARD
TZOFFSETFROM:-0400
TZOFFSETTO:-0500
TZNAME:EST
DTSTART:20271107T060000
END:STANDARD
END:VTIMEZONE
BEGIN:VEVENT
DTSTART;TZID=America/New_York:20260417T170000
DTEND;TZID=America/New_York:20260417T200000
DTSTAMP:20260422T021328
CREATED:20260331T164400Z
LAST-MODIFIED:20260331T164402Z
UID:10000345-1776445200-1776456000@saltybottomblue.com
SUMMARY:Eastwood Farm & Winery
DESCRIPTION:
URL:https://saltybottomblue.com/event/eastwood-farm-winery-7/2026-04-17/
LOCATION:Eastwood Farm & Winery\, 2531 Scottsville Rd\, Charlottesville\, Virginia\, 22902
END:VEVENT
BEGIN:VEVENT
DTSTART;TZID=America/New_York:20260410T170000
DTEND;TZID=America/New_York:20260410T200000
DTSTAMP:20260422T021328
CREATED:20260331T164400Z
LAST-MODIFIED:20260331T164402Z
UID:10000344-1775840400-1775851200@saltybottomblue.com
SUMMARY:Eastwood Farm & Winery
DESCRIPTION:
URL:https://saltybottomblue.com/event/eastwood-farm-winery-7/2026-04-10/
LOCATION:Eastwood Farm & Winery\, 2531 Scottsville Rd\, Charlottesville\, Virginia\, 22902
END:VEVENT
BEGIN:VEVENT
DTSTART;TZID=America/New_York:20260403T170000
DTEND;TZID=America/New_York:20260403T200000
DTSTAMP:20260422T021328
CREATED:20260331T164400Z
LAST-MODIFIED:20260331T164402Z
UID:10000343-1775235600-1775246400@saltybottomblue.com
SUMMARY:Eastwood Farm & Winery
DESCRIPTION:
URL:https://saltybottomblue.com/event/eastwood-farm-winery-7/2026-04-03/
LOCATION:Eastwood Farm & Winery\, 2531 Scottsville Rd\, Charlottesville\, Virginia\, 22902
END:VEVENT
BEGIN:VEVENT
DTSTART;TZID=America/New_York:20251031T170000
DTEND;TZID=America/New_York:20251031T200000
DTSTAMP:20260422T021328
CREATED:20250403T125208Z
LAST-MODIFIED:20250403T125211Z
UID:10000272-1761930000-1761940800@saltybottomblue.com
SUMMARY:Eastwood Farm & Winery
DESCRIPTION:
URL:https://saltybottomblue.com/event/eastwood-farm-winery-6/2025-10-31/
LOCATION:Eastwood Farm & Winery\, 2531 Scottsville Rd\, Charlottesville\, Virginia\, 22902
END:VEVENT
BEGIN:VEVENT
DTSTART;TZID=America/New_York:20251024T170000
DTEND;TZID=America/New_York:20251024T200000
DTSTAMP:20260422T021328
CREATED:20250403T125208Z
LAST-MODIFIED:20250403T125211Z
UID:10000271-1761325200-1761336000@saltybottomblue.com
SUMMARY:Eastwood Farm & Winery
DESCRIPTION:
URL:https://saltybottomblue.com/event/eastwood-farm-winery-6/2025-10-24/
LOCATION:Eastwood Farm & Winery\, 2531 Scottsville Rd\, Charlottesville\, Virginia\, 22902
END:VEVENT
BEGIN:VEVENT
DTSTART;TZID=America/New_York:20251017T170000
DTEND;TZID=America/New_York:20251017T200000
DTSTAMP:20260422T021328
CREATED:20250403T125208Z
LAST-MODIFIED:20250403T125211Z
UID:10000270-1760720400-1760731200@saltybottomblue.com
SUMMARY:Eastwood Farm & Winery
DESCRIPTION:
URL:https://saltybottomblue.com/event/eastwood-farm-winery-6/2025-10-17/
LOCATION:Eastwood Farm & Winery\, 2531 Scottsville Rd\, Charlottesville\, Virginia\, 22902
END:VEVENT
BEGIN:VEVENT
DTSTART;TZID=America/New_York:20251010T170000
DTEND;TZID=America/New_York:20251010T200000
DTSTAMP:20260422T021328
CREATED:20250403T125208Z
LAST-MODIFIED:20250403T125211Z
UID:10000269-1760115600-1760126400@saltybottomblue.com
SUMMARY:Eastwood Farm & Winery
DESCRIPTION:
URL:https://saltybottomblue.com/event/eastwood-farm-winery-6/2025-10-10/
LOCATION:Eastwood Farm & Winery\, 2531 Scottsville Rd\, Charlottesville\, Virginia\, 22902
END:VEVENT
BEGIN:VEVENT
DTSTART;TZID=America/New_York:20251003T170000
DTEND;TZID=America/New_York:20251003T200000
DTSTAMP:20260422T021328
CREATED:20250403T125208Z
LAST-MODIFIED:20250403T125211Z
UID:10000268-1759510800-1759521600@saltybottomblue.com
SUMMARY:Eastwood Farm & Winery
DESCRIPTION:
URL:https://saltybottomblue.com/event/eastwood-farm-winery-6/2025-10-03/
LOCATION:Eastwood Farm & Winery\, 2531 Scottsville Rd\, Charlottesville\, Virginia\, 22902
END:VEVENT
BEGIN:VEVENT
DTSTART;TZID=America/New_York:20250926T170000
DTEND;TZID=America/New_York:20250926T200000
DTSTAMP:20260422T021328
CREATED:20250403T125208Z
LAST-MODIFIED:20250403T125211Z
UID:10000267-1758906000-1758916800@saltybottomblue.com
SUMMARY:Eastwood Farm & Winery
DESCRIPTION:
URL:https://saltybottomblue.com/event/eastwood-farm-winery-6/2025-09-26/
LOCATION:Eastwood Farm & Winery\, 2531 Scottsville Rd\, Charlottesville\, Virginia\, 22902
END:VEVENT
BEGIN:VEVENT
DTSTART;TZID=America/New_York:20250919T170000
DTEND;TZID=America/New_York:20250919T200000
DTSTAMP:20260422T021328
CREATED:20250403T125208Z
LAST-MODIFIED:20250403T125211Z
UID:10000266-1758301200-1758312000@saltybottomblue.com
SUMMARY:Eastwood Farm & Winery
DESCRIPTION:
URL:https://saltybottomblue.com/event/eastwood-farm-winery-6/2025-09-19/
LOCATION:Eastwood Farm & Winery\, 2531 Scottsville Rd\, Charlottesville\, Virginia\, 22902
END:VEVENT
BEGIN:VEVENT
DTSTART;TZID=America/New_York:20250912T170000
DTEND;TZID=America/New_York:20250912T200000
DTSTAMP:20260422T021328
CREATED:20250403T125208Z
LAST-MODIFIED:20250403T125211Z
UID:10000265-1757696400-1757707200@saltybottomblue.com
SUMMARY:Eastwood Farm & Winery
DESCRIPTION:
URL:https://saltybottomblue.com/event/eastwood-farm-winery-6/2025-09-12/
LOCATION:Eastwood Farm & Winery\, 2531 Scottsville Rd\, Charlottesville\, Virginia\, 22902
END:VEVENT
BEGIN:VEVENT
DTSTART;TZID=America/New_York:20250905T170000
DTEND;TZID=America/New_York:20250905T200000
DTSTAMP:20260422T021328
CREATED:20250403T125208Z
LAST-MODIFIED:20250403T125211Z
UID:10000264-1757091600-1757102400@saltybottomblue.com
SUMMARY:Eastwood Farm & Winery
DESCRIPTION:
URL:https://saltybottomblue.com/event/eastwood-farm-winery-6/2025-09-05/
LOCATION:Eastwood Farm & Winery\, 2531 Scottsville Rd\, Charlottesville\, Virginia\, 22902
END:VEVENT
BEGIN:VEVENT
DTSTART;TZID=America/New_York:20250829T170000
DTEND;TZID=America/New_York:20250829T200000
DTSTAMP:20260422T021328
CREATED:20250403T125208Z
LAST-MODIFIED:20250403T125211Z
UID:10000263-1756486800-1756497600@saltybottomblue.com
SUMMARY:Eastwood Farm & Winery
DESCRIPTION:
URL:https://saltybottomblue.com/event/eastwood-farm-winery-6/2025-08-29/
LOCATION:Eastwood Farm & Winery\, 2531 Scottsville Rd\, Charlottesville\, Virginia\, 22902
END:VEVENT
BEGIN:VEVENT
DTSTART;TZID=America/New_York:20250823T120000
DTEND;TZID=America/New_York:20250823T160000
DTSTAMP:20260422T021328
CREATED:20250403T125705Z
LAST-MODIFIED:20250611T175116Z
UID:10000276-1755950400-1755964800@saltybottomblue.com
SUMMARY:BLUE CRAB FEAST at Eastwood *until sold out*
DESCRIPTION:
URL:https://saltybottomblue.com/event/blue-crab-feast-at-eastwood-until-sold-out-2/
LOCATION:Eastwood Farm & Winery\, 2531 Scottsville Rd\, Charlottesville\, Virginia\, 22902
END:VEVENT
BEGIN:VEVENT
DTSTART;TZID=America/New_York:20250822T170000
DTEND;TZID=America/New_York:20250822T200000
DTSTAMP:20260422T021328
CREATED:20250403T125208Z
LAST-MODIFIED:20250403T125211Z
UID:10000262-1755882000-1755892800@saltybottomblue.com
SUMMARY:Eastwood Farm & Winery
DESCRIPTION:
URL:https://saltybottomblue.com/event/eastwood-farm-winery-6/2025-08-22/
LOCATION:Eastwood Farm & Winery\, 2531 Scottsville Rd\, Charlottesville\, Virginia\, 22902
END:VEVENT
BEGIN:VEVENT
DTSTART;TZID=America/New_York:20250815T170000
DTEND;TZID=America/New_York:20250815T200000
DTSTAMP:20260422T021328
CREATED:20250403T125208Z
LAST-MODIFIED:20250403T125211Z
UID:10000261-1755277200-1755288000@saltybottomblue.com
SUMMARY:Eastwood Farm & Winery
DESCRIPTION:
URL:https://saltybottomblue.com/event/eastwood-farm-winery-6/2025-08-15/
LOCATION:Eastwood Farm & Winery\, 2531 Scottsville Rd\, Charlottesville\, Virginia\, 22902
END:VEVENT
BEGIN:VEVENT
DTSTART;TZID=America/New_York:20250808T170000
DTEND;TZID=America/New_York:20250808T200000
DTSTAMP:20260422T021328
CREATED:20250403T125208Z
LAST-MODIFIED:20250403T125211Z
UID:10000260-1754672400-1754683200@saltybottomblue.com
SUMMARY:Eastwood Farm & Winery
DESCRIPTION:
URL:https://saltybottomblue.com/event/eastwood-farm-winery-6/2025-08-08/
LOCATION:Eastwood Farm & Winery\, 2531 Scottsville Rd\, Charlottesville\, Virginia\, 22902
END:VEVENT
BEGIN:VEVENT
DTSTART;TZID=America/New_York:20250801T170000
DTEND;TZID=America/New_York:20250801T200000
DTSTAMP:20260422T021328
CREATED:20250403T125208Z
LAST-MODIFIED:20250403T125211Z
UID:10000259-1754067600-1754078400@saltybottomblue.com
SUMMARY:Eastwood Farm & Winery
DESCRIPTION:
URL:https://saltybottomblue.com/event/eastwood-farm-winery-6/2025-08-01/
LOCATION:Eastwood Farm & Winery\, 2531 Scottsville Rd\, Charlottesville\, Virginia\, 22902
END:VEVENT
BEGIN:VEVENT
DTSTART;TZID=America/New_York:20250725T170000
DTEND;TZID=America/New_York:20250725T200000
DTSTAMP:20260422T021328
CREATED:20250403T125208Z
LAST-MODIFIED:20250403T125211Z
UID:10000258-1753462800-1753473600@saltybottomblue.com
SUMMARY:Eastwood Farm & Winery
DESCRIPTION:
URL:https://saltybottomblue.com/event/eastwood-farm-winery-6/2025-07-25/
LOCATION:Eastwood Farm & Winery\, 2531 Scottsville Rd\, Charlottesville\, Virginia\, 22902
END:VEVENT
BEGIN:VEVENT
DTSTART;TZID=America/New_York:20250718T170000
DTEND;TZID=America/New_York:20250718T200000
DTSTAMP:20260422T021328
CREATED:20250403T125208Z
LAST-MODIFIED:20250403T125211Z
UID:10000257-1752858000-1752868800@saltybottomblue.com
SUMMARY:Eastwood Farm & Winery
DESCRIPTION:
URL:https://saltybottomblue.com/event/eastwood-farm-winery-6/2025-07-18/
LOCATION:Eastwood Farm & Winery\, 2531 Scottsville Rd\, Charlottesville\, Virginia\, 22902
END:VEVENT
BEGIN:VEVENT
DTSTART;TZID=America/New_York:20250711T170000
DTEND;TZID=America/New_York:20250711T200000
DTSTAMP:20260422T021328
CREATED:20250403T125208Z
LAST-MODIFIED:20250403T125211Z
UID:10000256-1752253200-1752264000@saltybottomblue.com
SUMMARY:Eastwood Farm & Winery
DESCRIPTION:
URL:https://saltybottomblue.com/event/eastwood-farm-winery-6/2025-07-11/
LOCATION:Eastwood Farm & Winery\, 2531 Scottsville Rd\, Charlottesville\, Virginia\, 22902
END:VEVENT
BEGIN:VEVENT
DTSTART;TZID=America/New_York:20250704T170000
DTEND;TZID=America/New_York:20250704T200000
DTSTAMP:20260422T021328
CREATED:20250403T125208Z
LAST-MODIFIED:20250403T125211Z
UID:10000255-1751648400-1751659200@saltybottomblue.com
SUMMARY:Eastwood Farm & Winery
DESCRIPTION:
URL:https://saltybottomblue.com/event/eastwood-farm-winery-6/2025-07-04/
LOCATION:Eastwood Farm & Winery\, 2531 Scottsville Rd\, Charlottesville\, Virginia\, 22902
END:VEVENT
BEGIN:VEVENT
DTSTART;TZID=America/New_York:20250627T170000
DTEND;TZID=America/New_York:20250627T200000
DTSTAMP:20260422T021328
CREATED:20250403T125208Z
LAST-MODIFIED:20250403T125211Z
UID:10000254-1751043600-1751054400@saltybottomblue.com
SUMMARY:Eastwood Farm & Winery
DESCRIPTION:
URL:https://saltybottomblue.com/event/eastwood-farm-winery-6/2025-06-27/
LOCATION:Eastwood Farm & Winery\, 2531 Scottsville Rd\, Charlottesville\, Virginia\, 22902
END:VEVENT
BEGIN:VEVENT
DTSTART;TZID=America/New_York:20250620T170000
DTEND;TZID=America/New_York:20250620T200000
DTSTAMP:20260422T021328
CREATED:20250403T125208Z
LAST-MODIFIED:20250403T125211Z
UID:10000253-1750438800-1750449600@saltybottomblue.com
SUMMARY:Eastwood Farm & Winery
DESCRIPTION:
URL:https://saltybottomblue.com/event/eastwood-farm-winery-6/2025-06-20/
LOCATION:Eastwood Farm & Winery\, 2531 Scottsville Rd\, Charlottesville\, Virginia\, 22902
END:VEVENT
BEGIN:VEVENT
DTSTART;TZID=America/New_York:20250613T170000
DTEND;TZID=America/New_York:20250613T200000
DTSTAMP:20260422T021328
CREATED:20250403T125208Z
LAST-MODIFIED:20250403T125211Z
UID:10000252-1749834000-1749844800@saltybottomblue.com
SUMMARY:Eastwood Farm & Winery
DESCRIPTION:
URL:https://saltybottomblue.com/event/eastwood-farm-winery-6/2025-06-13/
LOCATION:Eastwood Farm & Winery\, 2531 Scottsville Rd\, Charlottesville\, Virginia\, 22902
END:VEVENT
BEGIN:VEVENT
DTSTART;TZID=America/New_York:20250606T170000
DTEND;TZID=America/New_York:20250606T200000
DTSTAMP:20260422T021328
CREATED:20250403T125208Z
LAST-MODIFIED:20250403T125211Z
UID:10000251-1749229200-1749240000@saltybottomblue.com
SUMMARY:Eastwood Farm & Winery
DESCRIPTION:
URL:https://saltybottomblue.com/event/eastwood-farm-winery-6/2025-06-06/
LOCATION:Eastwood Farm & Winery\, 2531 Scottsville Rd\, Charlottesville\, Virginia\, 22902
END:VEVENT
BEGIN:VEVENT
DTSTART;TZID=America/New_York:20250530T170000
DTEND;TZID=America/New_York:20250530T200000
DTSTAMP:20260422T021328
CREATED:20250403T125208Z
LAST-MODIFIED:20250403T125211Z
UID:10000250-1748624400-1748635200@saltybottomblue.com
SUMMARY:Eastwood Farm & Winery
DESCRIPTION:
URL:https://saltybottomblue.com/event/eastwood-farm-winery-6/2025-05-30/
LOCATION:Eastwood Farm & Winery\, 2531 Scottsville Rd\, Charlottesville\, Virginia\, 22902
END:VEVENT
BEGIN:VEVENT
DTSTART;TZID=America/New_York:20250523T170000
DTEND;TZID=America/New_York:20250523T200000
DTSTAMP:20260422T021328
CREATED:20250403T125208Z
LAST-MODIFIED:20250403T125211Z
UID:10000249-1748019600-1748030400@saltybottomblue.com
SUMMARY:Eastwood Farm & Winery
DESCRIPTION:
URL:https://saltybottomblue.com/event/eastwood-farm-winery-6/2025-05-23/
LOCATION:Eastwood Farm & Winery\, 2531 Scottsville Rd\, Charlottesville\, Virginia\, 22902
END:VEVENT
BEGIN:VEVENT
DTSTART;TZID=America/New_York:20250516T170000
DTEND;TZID=America/New_York:20250516T200000
DTSTAMP:20260422T021328
CREATED:20250403T125208Z
LAST-MODIFIED:20250403T125211Z
UID:10000248-1747414800-1747425600@saltybottomblue.com
SUMMARY:Eastwood Farm & Winery
DESCRIPTION:
URL:https://saltybottomblue.com/event/eastwood-farm-winery-6/2025-05-16/
LOCATION:Eastwood Farm & Winery\, 2531 Scottsville Rd\, Charlottesville\, Virginia\, 22902
END:VEVENT
BEGIN:VEVENT
DTSTART;TZID=America/New_York:20250509T170000
DTEND;TZID=America/New_York:20250509T200000
DTSTAMP:20260422T021328
CREATED:20250403T125208Z
LAST-MODIFIED:20250403T125211Z
UID:10000247-1746810000-1746820800@saltybottomblue.com
SUMMARY:Eastwood Farm & Winery
DESCRIPTION:
URL:https://saltybottomblue.com/event/eastwood-farm-winery-6/2025-05-09/
LOCATION:Eastwood Farm & Winery\, 2531 Scottsville Rd\, Charlottesville\, Virginia\, 22902
END:VEVENT
END:VCALENDAR