BEGIN:VCALENDAR
VERSION:2.0
PRODID:-//Salty Bottom Blue Oysters - ECPv6.15.20//NONSGML v1.0//EN
CALSCALE:GREGORIAN
METHOD:PUBLISH
X-WR-CALNAME:Salty Bottom Blue Oysters
X-ORIGINAL-URL:https://saltybottomblue.com
X-WR-CALDESC:Events for Salty Bottom Blue Oysters
REFRESH-INTERVAL;VALUE=DURATION:PT1H
X-Robots-Tag:noindex
X-PUBLISHED-TTL:PT1H
BEGIN:VTIMEZONE
TZID:America/New_York
BEGIN:DAYLIGHT
TZOFFSETFROM:-0500
TZOFFSETTO:-0400
TZNAME:EDT
DTSTART:20220313T070000
END:DAYLIGHT
BEGIN:STANDARD
TZOFFSETFROM:-0400
TZOFFSETTO:-0500
TZNAME:EST
DTSTART:20221106T060000
END:STANDARD
BEGIN:DAYLIGHT
TZOFFSETFROM:-0500
TZOFFSETTO:-0400
TZNAME:EDT
DTSTART:20230312T070000
END:DAYLIGHT
BEGIN:STANDARD
TZOFFSETFROM:-0400
TZOFFSETTO:-0500
TZNAME:EST
DTSTART:20231105T060000
END:STANDARD
BEGIN:DAYLIGHT
TZOFFSETFROM:-0500
TZOFFSETTO:-0400
TZNAME:EDT
DTSTART:20240310T070000
END:DAYLIGHT
BEGIN:STANDARD
TZOFFSETFROM:-0400
TZOFFSETTO:-0500
TZNAME:EST
DTSTART:20241103T060000
END:STANDARD
END:VTIMEZONE
BEGIN:VEVENT
DTSTART;TZID=America/New_York:20231029T120000
DTEND;TZID=America/New_York:20231029T170000
DTSTAMP:20260422T160410
CREATED:20230620T211856Z
LAST-MODIFIED:20230831T153108Z
UID:10000042-1698580800-1698598800@saltybottomblue.com
SUMMARY:Cunningham Creek Winery
DESCRIPTION:
URL:https://saltybottomblue.com/event/cunningham-creek-winery-2/2023-10-29/
LOCATION:Cunningham Creek Winery\, 3304 Ruritan Lake Rd\, Palmyra\, Virginia\, 22963
END:VEVENT
BEGIN:VEVENT
DTSTART;TZID=America/New_York:20230701T120000
DTEND;TZID=America/New_York:20230701T200000
DTSTAMP:20260422T160410
CREATED:20230620T211856Z
LAST-MODIFIED:20230831T153108Z
UID:10000040-1688212800-1688241600@saltybottomblue.com
SUMMARY:Cunningham Creek Winery
DESCRIPTION:
URL:https://saltybottomblue.com/event/cunningham-creek-winery-2/2023-07-01/
LOCATION:Cunningham Creek Winery\, 3304 Ruritan Lake Rd\, Palmyra\, Virginia\, 22963
END:VEVENT
BEGIN:VEVENT
DTSTART;TZID=America/New_York:20230528T120000
DTEND;TZID=America/New_York:20230528T210000
DTSTAMP:20260422T160410
CREATED:20230504T181104Z
LAST-MODIFIED:20230504T181105Z
UID:10000012-1685275200-1685307600@saltybottomblue.com
SUMMARY:Cunningham Creek Winery
DESCRIPTION:
URL:https://saltybottomblue.com/event/cunningham-creek-winery/
LOCATION:Cunningham Creek Winery\, 3304 Ruritan Lake Rd\, Palmyra\, Virginia\, 22963
END:VEVENT
END:VCALENDAR