BEGIN:VCALENDAR
VERSION:2.0
PRODID:-//Salty Bottom Blue Oysters - ECPv6.15.20//NONSGML v1.0//EN
CALSCALE:GREGORIAN
METHOD:PUBLISH
X-WR-CALNAME:Salty Bottom Blue Oysters
X-ORIGINAL-URL:https://saltybottomblue.com
X-WR-CALDESC:Events for Salty Bottom Blue Oysters
REFRESH-INTERVAL;VALUE=DURATION:PT1H
X-Robots-Tag:noindex
X-PUBLISHED-TTL:PT1H
BEGIN:VTIMEZONE
TZID:America/New_York
BEGIN:DAYLIGHT
TZOFFSETFROM:-0500
TZOFFSETTO:-0400
TZNAME:EDT
DTSTART:20250309T070000
END:DAYLIGHT
BEGIN:STANDARD
TZOFFSETFROM:-0400
TZOFFSETTO:-0500
TZNAME:EST
DTSTART:20251102T060000
END:STANDARD
BEGIN:DAYLIGHT
TZOFFSETFROM:-0500
TZOFFSETTO:-0400
TZNAME:EDT
DTSTART:20260308T070000
END:DAYLIGHT
BEGIN:STANDARD
TZOFFSETFROM:-0400
TZOFFSETTO:-0500
TZNAME:EST
DTSTART:20261101T060000
END:STANDARD
BEGIN:DAYLIGHT
TZOFFSETFROM:-0500
TZOFFSETTO:-0400
TZNAME:EDT
DTSTART:20270314T070000
END:DAYLIGHT
BEGIN:STANDARD
TZOFFSETFROM:-0400
TZOFFSETTO:-0500
TZNAME:EST
DTSTART:20271107T060000
END:STANDARD
END:VTIMEZONE
BEGIN:VEVENT
DTSTART;TZID=America/New_York:20260424T170000
DTEND;TZID=America/New_York:20260424T200000
DTSTAMP:20260421T082239
CREATED:20260331T164400Z
LAST-MODIFIED:20260331T164402Z
UID:10000346-1777050000-1777060800@saltybottomblue.com
SUMMARY:Eastwood Farm & Winery
DESCRIPTION:
URL:https://saltybottomblue.com/event/eastwood-farm-winery-7/2026-04-24/
LOCATION:Eastwood Farm & Winery\, 2531 Scottsville Rd\, Charlottesville\, Virginia\, 22902
END:VEVENT
BEGIN:VEVENT
DTSTART;TZID=America/New_York:20260425T120000
DTEND;TZID=America/New_York:20260425T180000
DTSTAMP:20260421T082239
CREATED:20260331T163201Z
LAST-MODIFIED:20260331T163203Z
UID:10000377-1777118400-1777140000@saltybottomblue.com
SUMMARY:Bandits ridge-- 1st annual oyster fest!
DESCRIPTION:
URL:https://saltybottomblue.com/event/bandits-ridge-1st-annual-oyster-fest/
END:VEVENT
BEGIN:VEVENT
DTSTART;TZID=America/New_York:20260501T170000
DTEND;TZID=America/New_York:20260501T200000
DTSTAMP:20260421T082239
CREATED:20260331T164400Z
LAST-MODIFIED:20260331T164402Z
UID:10000347-1777654800-1777665600@saltybottomblue.com
SUMMARY:Eastwood Farm & Winery
DESCRIPTION:
URL:https://saltybottomblue.com/event/eastwood-farm-winery-7/2026-05-01/
LOCATION:Eastwood Farm & Winery\, 2531 Scottsville Rd\, Charlottesville\, Virginia\, 22902
END:VEVENT
BEGIN:VEVENT
DTSTART;TZID=America/New_York:20260502T160000
DTEND;TZID=America/New_York:20260502T200000
DTSTAMP:20260421T082239
CREATED:20260331T163340Z
LAST-MODIFIED:20260331T163451Z
UID:10000378-1777737600-1777752000@saltybottomblue.com
SUMMARY:Knights Gambit: 3rd Annual Oyster Fest
DESCRIPTION:
URL:https://saltybottomblue.com/event/knights-gambit-3rd-annual-oyster-fest/
LOCATION:Knights Gambit Vineyard\, 218 Knole Farm Ln\, Charlottesville\, Virginia\, 22901\, United States
END:VEVENT
BEGIN:VEVENT
DTSTART;TZID=America/New_York:20260508T170000
DTEND;TZID=America/New_York:20260508T200000
DTSTAMP:20260421T082239
CREATED:20260331T164400Z
LAST-MODIFIED:20260331T164402Z
UID:10000348-1778259600-1778270400@saltybottomblue.com
SUMMARY:Eastwood Farm & Winery
DESCRIPTION:
URL:https://saltybottomblue.com/event/eastwood-farm-winery-7/2026-05-08/
LOCATION:Eastwood Farm & Winery\, 2531 Scottsville Rd\, Charlottesville\, Virginia\, 22902
END:VEVENT
BEGIN:VEVENT
DTSTART;TZID=America/New_York:20260510T120000
DTEND;TZID=America/New_York:20260510T170000
DTSTAMP:20260421T082239
CREATED:20260331T164517Z
LAST-MODIFIED:20260331T164519Z
UID:10000379-1778414400-1778432400@saltybottomblue.com
SUMMARY:Eastwood! Lobster and Oyster Mother's Day Special
DESCRIPTION:
URL:https://saltybottomblue.com/event/eastwood-lobster-and-oyster-mothers-day-special/
LOCATION:Eastwood Farm & Winery\, 2531 Scottsville Rd\, Charlottesville\, Virginia\, 22902
END:VEVENT
BEGIN:VEVENT
DTSTART;TZID=America/New_York:20260515T170000
DTEND;TZID=America/New_York:20260515T200000
DTSTAMP:20260421T082239
CREATED:20260331T164400Z
LAST-MODIFIED:20260331T164402Z
UID:10000349-1778864400-1778875200@saltybottomblue.com
SUMMARY:Eastwood Farm & Winery
DESCRIPTION:
URL:https://saltybottomblue.com/event/eastwood-farm-winery-7/2026-05-15/
LOCATION:Eastwood Farm & Winery\, 2531 Scottsville Rd\, Charlottesville\, Virginia\, 22902
END:VEVENT
BEGIN:VEVENT
DTSTART;TZID=America/New_York:20260522T170000
DTEND;TZID=America/New_York:20260522T200000
DTSTAMP:20260421T082239
CREATED:20260331T164400Z
LAST-MODIFIED:20260331T164402Z
UID:10000350-1779469200-1779480000@saltybottomblue.com
SUMMARY:Eastwood Farm & Winery
DESCRIPTION:
URL:https://saltybottomblue.com/event/eastwood-farm-winery-7/2026-05-22/
LOCATION:Eastwood Farm & Winery\, 2531 Scottsville Rd\, Charlottesville\, Virginia\, 22902
END:VEVENT
BEGIN:VEVENT
DTSTART;TZID=America/New_York:20260529T170000
DTEND;TZID=America/New_York:20260529T200000
DTSTAMP:20260421T082239
CREATED:20260331T164400Z
LAST-MODIFIED:20260331T164402Z
UID:10000351-1780074000-1780084800@saltybottomblue.com
SUMMARY:Eastwood Farm & Winery
DESCRIPTION:
URL:https://saltybottomblue.com/event/eastwood-farm-winery-7/2026-05-29/
LOCATION:Eastwood Farm & Winery\, 2531 Scottsville Rd\, Charlottesville\, Virginia\, 22902
END:VEVENT
BEGIN:VEVENT
DTSTART;TZID=America/New_York:20260530T120000
DTEND;TZID=America/New_York:20260530T200000
DTSTAMP:20260421T082239
CREATED:20260331T164857Z
LAST-MODIFIED:20260331T164859Z
UID:10000380-1780142400-1780171200@saltybottomblue.com
SUMMARY:Ironclad Distillery: Newport News
DESCRIPTION:
URL:https://saltybottomblue.com/event/ironclad-distillery-newport-news/
END:VEVENT
BEGIN:VEVENT
DTSTART;TZID=America/New_York:20260605T170000
DTEND;TZID=America/New_York:20260605T200000
DTSTAMP:20260421T082239
CREATED:20260331T164400Z
LAST-MODIFIED:20260331T164402Z
UID:10000352-1780678800-1780689600@saltybottomblue.com
SUMMARY:Eastwood Farm & Winery
DESCRIPTION:
URL:https://saltybottomblue.com/event/eastwood-farm-winery-7/2026-06-05/
LOCATION:Eastwood Farm & Winery\, 2531 Scottsville Rd\, Charlottesville\, Virginia\, 22902
END:VEVENT
BEGIN:VEVENT
DTSTART;TZID=America/New_York:20260612T170000
DTEND;TZID=America/New_York:20260612T200000
DTSTAMP:20260421T082239
CREATED:20260331T164400Z
LAST-MODIFIED:20260331T164402Z
UID:10000353-1781283600-1781294400@saltybottomblue.com
SUMMARY:Eastwood Farm & Winery
DESCRIPTION:
URL:https://saltybottomblue.com/event/eastwood-farm-winery-7/2026-06-12/
LOCATION:Eastwood Farm & Winery\, 2531 Scottsville Rd\, Charlottesville\, Virginia\, 22902
END:VEVENT
BEGIN:VEVENT
DTSTART;TZID=America/New_York:20260619T170000
DTEND;TZID=America/New_York:20260619T200000
DTSTAMP:20260421T082239
CREATED:20260331T164400Z
LAST-MODIFIED:20260331T164402Z
UID:10000354-1781888400-1781899200@saltybottomblue.com
SUMMARY:Eastwood Farm & Winery
DESCRIPTION:
URL:https://saltybottomblue.com/event/eastwood-farm-winery-7/2026-06-19/
LOCATION:Eastwood Farm & Winery\, 2531 Scottsville Rd\, Charlottesville\, Virginia\, 22902
END:VEVENT
BEGIN:VEVENT
DTSTART;TZID=America/New_York:20260626T170000
DTEND;TZID=America/New_York:20260626T200000
DTSTAMP:20260421T082239
CREATED:20260331T164400Z
LAST-MODIFIED:20260331T164402Z
UID:10000355-1782493200-1782504000@saltybottomblue.com
SUMMARY:Eastwood Farm & Winery
DESCRIPTION:
URL:https://saltybottomblue.com/event/eastwood-farm-winery-7/2026-06-26/
LOCATION:Eastwood Farm & Winery\, 2531 Scottsville Rd\, Charlottesville\, Virginia\, 22902
END:VEVENT
BEGIN:VEVENT
DTSTART;TZID=America/New_York:20260703T170000
DTEND;TZID=America/New_York:20260703T200000
DTSTAMP:20260421T082240
CREATED:20260331T164400Z
LAST-MODIFIED:20260331T164402Z
UID:10000356-1783098000-1783108800@saltybottomblue.com
SUMMARY:Eastwood Farm & Winery
DESCRIPTION:
URL:https://saltybottomblue.com/event/eastwood-farm-winery-7/2026-07-03/
LOCATION:Eastwood Farm & Winery\, 2531 Scottsville Rd\, Charlottesville\, Virginia\, 22902
END:VEVENT
BEGIN:VEVENT
DTSTART;TZID=America/New_York:20260710T170000
DTEND;TZID=America/New_York:20260710T200000
DTSTAMP:20260421T082240
CREATED:20260331T164400Z
LAST-MODIFIED:20260331T164402Z
UID:10000357-1783702800-1783713600@saltybottomblue.com
SUMMARY:Eastwood Farm & Winery
DESCRIPTION:
URL:https://saltybottomblue.com/event/eastwood-farm-winery-7/2026-07-10/
LOCATION:Eastwood Farm & Winery\, 2531 Scottsville Rd\, Charlottesville\, Virginia\, 22902
END:VEVENT
BEGIN:VEVENT
DTSTART;TZID=America/New_York:20260717T170000
DTEND;TZID=America/New_York:20260717T200000
DTSTAMP:20260421T082240
CREATED:20260331T164400Z
LAST-MODIFIED:20260331T164402Z
UID:10000358-1784307600-1784318400@saltybottomblue.com
SUMMARY:Eastwood Farm & Winery
DESCRIPTION:
URL:https://saltybottomblue.com/event/eastwood-farm-winery-7/2026-07-17/
LOCATION:Eastwood Farm & Winery\, 2531 Scottsville Rd\, Charlottesville\, Virginia\, 22902
END:VEVENT
BEGIN:VEVENT
DTSTART;TZID=America/New_York:20260724T170000
DTEND;TZID=America/New_York:20260724T200000
DTSTAMP:20260421T082240
CREATED:20260331T164400Z
LAST-MODIFIED:20260331T164402Z
UID:10000359-1784912400-1784923200@saltybottomblue.com
SUMMARY:Eastwood Farm & Winery
DESCRIPTION:
URL:https://saltybottomblue.com/event/eastwood-farm-winery-7/2026-07-24/
LOCATION:Eastwood Farm & Winery\, 2531 Scottsville Rd\, Charlottesville\, Virginia\, 22902
END:VEVENT
BEGIN:VEVENT
DTSTART;TZID=America/New_York:20260731T170000
DTEND;TZID=America/New_York:20260731T200000
DTSTAMP:20260421T082240
CREATED:20260331T164400Z
LAST-MODIFIED:20260331T164402Z
UID:10000360-1785517200-1785528000@saltybottomblue.com
SUMMARY:Eastwood Farm & Winery
DESCRIPTION:
URL:https://saltybottomblue.com/event/eastwood-farm-winery-7/2026-07-31/
LOCATION:Eastwood Farm & Winery\, 2531 Scottsville Rd\, Charlottesville\, Virginia\, 22902
END:VEVENT
BEGIN:VEVENT
DTSTART;TZID=America/New_York:20260807T170000
DTEND;TZID=America/New_York:20260807T200000
DTSTAMP:20260421T082240
CREATED:20260331T164400Z
LAST-MODIFIED:20260331T164402Z
UID:10000361-1786122000-1786132800@saltybottomblue.com
SUMMARY:Eastwood Farm & Winery
DESCRIPTION:
URL:https://saltybottomblue.com/event/eastwood-farm-winery-7/2026-08-07/
LOCATION:Eastwood Farm & Winery\, 2531 Scottsville Rd\, Charlottesville\, Virginia\, 22902
END:VEVENT
BEGIN:VEVENT
DTSTART;TZID=America/New_York:20260814T170000
DTEND;TZID=America/New_York:20260814T200000
DTSTAMP:20260421T082240
CREATED:20260331T164400Z
LAST-MODIFIED:20260331T164402Z
UID:10000362-1786726800-1786737600@saltybottomblue.com
SUMMARY:Eastwood Farm & Winery
DESCRIPTION:
URL:https://saltybottomblue.com/event/eastwood-farm-winery-7/2026-08-14/
LOCATION:Eastwood Farm & Winery\, 2531 Scottsville Rd\, Charlottesville\, Virginia\, 22902
END:VEVENT
BEGIN:VEVENT
DTSTART;TZID=America/New_York:20260821T170000
DTEND;TZID=America/New_York:20260821T200000
DTSTAMP:20260421T082240
CREATED:20260331T164400Z
LAST-MODIFIED:20260331T164402Z
UID:10000363-1787331600-1787342400@saltybottomblue.com
SUMMARY:Eastwood Farm & Winery
DESCRIPTION:
URL:https://saltybottomblue.com/event/eastwood-farm-winery-7/2026-08-21/
LOCATION:Eastwood Farm & Winery\, 2531 Scottsville Rd\, Charlottesville\, Virginia\, 22902
END:VEVENT
BEGIN:VEVENT
DTSTART;TZID=America/New_York:20260828T170000
DTEND;TZID=America/New_York:20260828T200000
DTSTAMP:20260421T082240
CREATED:20260331T164400Z
LAST-MODIFIED:20260331T164402Z
UID:10000364-1787936400-1787947200@saltybottomblue.com
SUMMARY:Eastwood Farm & Winery
DESCRIPTION:
URL:https://saltybottomblue.com/event/eastwood-farm-winery-7/2026-08-28/
LOCATION:Eastwood Farm & Winery\, 2531 Scottsville Rd\, Charlottesville\, Virginia\, 22902
END:VEVENT
BEGIN:VEVENT
DTSTART;TZID=America/New_York:20260904T170000
DTEND;TZID=America/New_York:20260904T200000
DTSTAMP:20260421T082240
CREATED:20260331T164400Z
LAST-MODIFIED:20260331T164402Z
UID:10000365-1788541200-1788552000@saltybottomblue.com
SUMMARY:Eastwood Farm & Winery
DESCRIPTION:
URL:https://saltybottomblue.com/event/eastwood-farm-winery-7/2026-09-04/
LOCATION:Eastwood Farm & Winery\, 2531 Scottsville Rd\, Charlottesville\, Virginia\, 22902
END:VEVENT
BEGIN:VEVENT
DTSTART;TZID=America/New_York:20260911T170000
DTEND;TZID=America/New_York:20260911T200000
DTSTAMP:20260421T082240
CREATED:20260331T164400Z
LAST-MODIFIED:20260331T164402Z
UID:10000366-1789146000-1789156800@saltybottomblue.com
SUMMARY:Eastwood Farm & Winery
DESCRIPTION:
URL:https://saltybottomblue.com/event/eastwood-farm-winery-7/2026-09-11/
LOCATION:Eastwood Farm & Winery\, 2531 Scottsville Rd\, Charlottesville\, Virginia\, 22902
END:VEVENT
BEGIN:VEVENT
DTSTART;TZID=America/New_York:20260918T170000
DTEND;TZID=America/New_York:20260918T200000
DTSTAMP:20260421T082240
CREATED:20260331T164400Z
LAST-MODIFIED:20260331T164402Z
UID:10000367-1789750800-1789761600@saltybottomblue.com
SUMMARY:Eastwood Farm & Winery
DESCRIPTION:
URL:https://saltybottomblue.com/event/eastwood-farm-winery-7/2026-09-18/
LOCATION:Eastwood Farm & Winery\, 2531 Scottsville Rd\, Charlottesville\, Virginia\, 22902
END:VEVENT
BEGIN:VEVENT
DTSTART;TZID=America/New_York:20260925T170000
DTEND;TZID=America/New_York:20260925T200000
DTSTAMP:20260421T082240
CREATED:20260331T164400Z
LAST-MODIFIED:20260331T164402Z
UID:10000368-1790355600-1790366400@saltybottomblue.com
SUMMARY:Eastwood Farm & Winery
DESCRIPTION:
URL:https://saltybottomblue.com/event/eastwood-farm-winery-7/2026-09-25/
LOCATION:Eastwood Farm & Winery\, 2531 Scottsville Rd\, Charlottesville\, Virginia\, 22902
END:VEVENT
BEGIN:VEVENT
DTSTART;TZID=America/New_York:20261002T170000
DTEND;TZID=America/New_York:20261002T200000
DTSTAMP:20260421T082240
CREATED:20260331T164400Z
LAST-MODIFIED:20260331T164402Z
UID:10000369-1790960400-1790971200@saltybottomblue.com
SUMMARY:Eastwood Farm & Winery
DESCRIPTION:
URL:https://saltybottomblue.com/event/eastwood-farm-winery-7/2026-10-02/
LOCATION:Eastwood Farm & Winery\, 2531 Scottsville Rd\, Charlottesville\, Virginia\, 22902
END:VEVENT
BEGIN:VEVENT
DTSTART;TZID=America/New_York:20261009T170000
DTEND;TZID=America/New_York:20261009T200000
DTSTAMP:20260421T082240
CREATED:20260331T164400Z
LAST-MODIFIED:20260331T164402Z
UID:10000370-1791565200-1791576000@saltybottomblue.com
SUMMARY:Eastwood Farm & Winery
DESCRIPTION:
URL:https://saltybottomblue.com/event/eastwood-farm-winery-7/2026-10-09/
LOCATION:Eastwood Farm & Winery\, 2531 Scottsville Rd\, Charlottesville\, Virginia\, 22902
END:VEVENT
BEGIN:VEVENT
DTSTART;TZID=America/New_York:20261016T170000
DTEND;TZID=America/New_York:20261016T200000
DTSTAMP:20260421T082240
CREATED:20260331T164400Z
LAST-MODIFIED:20260331T164402Z
UID:10000371-1792170000-1792180800@saltybottomblue.com
SUMMARY:Eastwood Farm & Winery
DESCRIPTION:
URL:https://saltybottomblue.com/event/eastwood-farm-winery-7/2026-10-16/
LOCATION:Eastwood Farm & Winery\, 2531 Scottsville Rd\, Charlottesville\, Virginia\, 22902
END:VEVENT
END:VCALENDAR